BEGIN:VCALENDAR
VERSION:2.0
PRODID:-//OSCIA - ECPv6.15.17.1//NONSGML v1.0//EN
CALSCALE:GREGORIAN
METHOD:PUBLISH
X-WR-CALNAME:OSCIA
X-ORIGINAL-URL:https://membership.ontariosoilcrop.org
X-WR-CALDESC:Events for OSCIA
REFRESH-INTERVAL;VALUE=DURATION:PT1H
X-Robots-Tag:noindex
X-PUBLISHED-TTL:PT1H
BEGIN:VTIMEZONE
TZID:America/Toronto
BEGIN:DAYLIGHT
TZOFFSETFROM:-0500
TZOFFSETTO:-0400
TZNAME:EDT
DTSTART:20250309T070000
END:DAYLIGHT
BEGIN:STANDARD
TZOFFSETFROM:-0400
TZOFFSETTO:-0500
TZNAME:EST
DTSTART:20251102T060000
END:STANDARD
BEGIN:DAYLIGHT
TZOFFSETFROM:-0500
TZOFFSETTO:-0400
TZNAME:EDT
DTSTART:20260308T070000
END:DAYLIGHT
BEGIN:STANDARD
TZOFFSETFROM:-0400
TZOFFSETTO:-0500
TZNAME:EST
DTSTART:20261101T060000
END:STANDARD
BEGIN:DAYLIGHT
TZOFFSETFROM:-0500
TZOFFSETTO:-0400
TZNAME:EDT
DTSTART:20270314T070000
END:DAYLIGHT
BEGIN:STANDARD
TZOFFSETFROM:-0400
TZOFFSETTO:-0500
TZNAME:EST
DTSTART:20271107T060000
END:STANDARD
END:VTIMEZONE
BEGIN:VEVENT
DTSTART;TZID=America/Toronto:20260112T090000
DTEND;TZID=America/Toronto:20260112T163000
DTSTAMP:20260421T143240
CREATED:20251028T140852Z
LAST-MODIFIED:20251028T140852Z
UID:10003172-1768208400-1768235400@membership.ontariosoilcrop.org
SUMMARY:Crops Day - Grey Bruce Farmers' Week
DESCRIPTION:🌾 Grey Bruce Farmers’ Week is celebrating its 60th year in 2026 and will once again offer both in-person and livestream attendance — meaning anyone\, from anywhere\, can join in! Please help us spread the word. \n🌱 Crops Day – Monday\, January 12th will feature a full lineup including:\n• A Market Outlook for 2026 with Steve Kell\, grain merchandiser with Kell Grain Elevators\n• A panel on The Autonomous Ag Frontier\, featuring experts from Huron Tractor Ltd.\, Grand River Robotics\, Upside Robotics\, and GPS Ontario\, facilitated by Deb Campbell\n• Corn Populations and Nitrogen Management with Josh Nasielski\, Assistant Professor\, University of Guelph\n• Pete’s Ponderings with Peter Johnson\, agronomist with RealAgriculture \nTake advantage of the networking opportunities in the tradeshow and enjoy a hearty roast beef lunch. Can’t watch the presentations live in Elmwood? That’s okay! They’ll be livestreamed and available for 30 days after as well. \n👉 Visit www.gbfw.ca for more details.
URL:https://membership.ontariosoilcrop.org/event/crops-day-grey-bruce-farmers-week/
LOCATION:Online
CATEGORIES:Georgian Central
ATTACH;FMTTYPE=image/png:https://membership.ontariosoilcrop.org/wp-content/uploads/2025/10/Crops-Day-2026.png
END:VEVENT
END:VCALENDAR