BEGIN:VCALENDAR
VERSION:2.0
PRODID:-//OSCIA - ECPv6.15.17.1//NONSGML v1.0//EN
CALSCALE:GREGORIAN
METHOD:PUBLISH
X-WR-CALNAME:OSCIA
X-ORIGINAL-URL:https://membership.ontariosoilcrop.org
X-WR-CALDESC:Events for OSCIA
REFRESH-INTERVAL;VALUE=DURATION:PT1H
X-Robots-Tag:noindex
X-PUBLISHED-TTL:PT1H
BEGIN:VTIMEZONE
TZID:America/Toronto
BEGIN:DAYLIGHT
TZOFFSETFROM:-0500
TZOFFSETTO:-0400
TZNAME:EDT
DTSTART:20250309T070000
END:DAYLIGHT
BEGIN:STANDARD
TZOFFSETFROM:-0400
TZOFFSETTO:-0500
TZNAME:EST
DTSTART:20251102T060000
END:STANDARD
BEGIN:DAYLIGHT
TZOFFSETFROM:-0500
TZOFFSETTO:-0400
TZNAME:EDT
DTSTART:20260308T070000
END:DAYLIGHT
BEGIN:STANDARD
TZOFFSETFROM:-0400
TZOFFSETTO:-0500
TZNAME:EST
DTSTART:20261101T060000
END:STANDARD
BEGIN:DAYLIGHT
TZOFFSETFROM:-0500
TZOFFSETTO:-0400
TZNAME:EDT
DTSTART:20270314T070000
END:DAYLIGHT
BEGIN:STANDARD
TZOFFSETFROM:-0400
TZOFFSETTO:-0500
TZNAME:EST
DTSTART:20271107T060000
END:STANDARD
END:VTIMEZONE
BEGIN:VEVENT
DTSTART;TZID=America/Toronto:20260111T090000
DTEND;TZID=America/Toronto:20260111T161500
DTSTAMP:20260421T143239
CREATED:20251028T140245Z
LAST-MODIFIED:20251028T140245Z
UID:10003171-1768122000-1768148100@membership.ontariosoilcrop.org
SUMMARY:Horse Day - Grey Bruce Farmer's Week
DESCRIPTION:🌾 Grey Bruce Farmers’ Week is celebrating its 60th year in 2026 and will once again offer both in-person and livestream attendance — meaning anyone\, from anywhere\, can join in! Please help us spread the word. \n🐎 Horse Day – Sunday\, January 11th will feature a full lineup including:\n• Equine Dentistry with Dr. Ian Bishop\, one of the first veterinarian in Canada to achieve Board Certification in Equine Dentistry\n• Purchasing\, Training & Showing Driving Horses with Jim McKague\n• Bit Fitting with Lisa Wright\n• A panel discussion\, My Favourite Drill\, with Jason & Bronwynne Irwin and Jessica Ruppel\n…and more! \nTake advantage of the networking opportunities in the tradeshow and enjoy a hearty roast beef lunch. Can’t watch the presentations live in Elmwood? That’s okay! They’ll be livestreamed and available for 30 days after as well. \n👉 Visit www.gbfw.ca for more details.
URL:https://membership.ontariosoilcrop.org/event/horse-day-grey-bruce-farmers-week/
LOCATION:Online
CATEGORIES:Georgian Central
ATTACH;FMTTYPE=image/png:https://membership.ontariosoilcrop.org/wp-content/uploads/2025/10/Horse-Day-2026.png
END:VEVENT
END:VCALENDAR