BEGIN:VCALENDAR
VERSION:2.0
PRODID:-//OSCIA - ECPv6.15.17.1//NONSGML v1.0//EN
CALSCALE:GREGORIAN
METHOD:PUBLISH
X-WR-CALNAME:OSCIA
X-ORIGINAL-URL:https://membership.ontariosoilcrop.org
X-WR-CALDESC:Events for OSCIA
REFRESH-INTERVAL;VALUE=DURATION:PT1H
X-Robots-Tag:noindex
X-PUBLISHED-TTL:PT1H
BEGIN:VTIMEZONE
TZID:America/Toronto
BEGIN:DAYLIGHT
TZOFFSETFROM:-0500
TZOFFSETTO:-0400
TZNAME:EDT
DTSTART:20240310T070000
END:DAYLIGHT
BEGIN:STANDARD
TZOFFSETFROM:-0400
TZOFFSETTO:-0500
TZNAME:EST
DTSTART:20241103T060000
END:STANDARD
BEGIN:DAYLIGHT
TZOFFSETFROM:-0500
TZOFFSETTO:-0400
TZNAME:EDT
DTSTART:20250309T070000
END:DAYLIGHT
BEGIN:STANDARD
TZOFFSETFROM:-0400
TZOFFSETTO:-0500
TZNAME:EST
DTSTART:20251102T060000
END:STANDARD
BEGIN:DAYLIGHT
TZOFFSETFROM:-0500
TZOFFSETTO:-0400
TZNAME:EDT
DTSTART:20260308T070000
END:DAYLIGHT
BEGIN:STANDARD
TZOFFSETFROM:-0400
TZOFFSETTO:-0500
TZNAME:EST
DTSTART:20261101T060000
END:STANDARD
END:VTIMEZONE
BEGIN:VEVENT
DTSTART;VALUE=DATE:20250714
DTEND;VALUE=DATE:20250718
DTSTAMP:20260425T101657
CREATED:20250625T142212Z
LAST-MODIFIED:20250625T142241Z
UID:10003082-1752451200-1752796799@membership.ontariosoilcrop.org
SUMMARY:North Simcoe SCIA Annual Bus Trip
DESCRIPTION:  \nNorth Simcoe SCIA presents their 47th Annual Bus Trip: July 14-17 (4 days and 3 nights). \nAccommodations: Courtyard\, Kitchener \nAgenda: \n\nJuly 14 – Sky Ridge Clydesdales (beef barn) and Deen Acres Highland (cattle ranch).\nJuly 15 – Grand Valley Fortifiers\, Bridon Farms (jersey and holstein dairy)\, lunch at the Foundry Tavern and the “Jesus Christ Superstar” show at the Hamilton Theatre.\nJuly 16 – Picard Peanuts\, Whistling Gardens\, Great Mountain Ginseng (grower and retail) and Salford Group equipment production.\nJuly 17 – Bell Homestead National Historic Site\, lunch on the Grand River Cruises\, Six Nations Farmers Association and dinner at Knox Presbyterian Church.\n\nCost is $640/person. \nRegister ASAP (first-come/first served) by emailing nsimcoesoilcrop@gmail.com.
URL:https://membership.ontariosoilcrop.org/event/north-simcoe-scia-annual-bus-trip/
LOCATION:9
CATEGORIES:Bruce,Dufferin,Georgian Central,Grey,Simcoe North
END:VEVENT
END:VCALENDAR