BEGIN:VCALENDAR
VERSION:2.0
PRODID:-//OSCIA - ECPv6.15.17.1//NONSGML v1.0//EN
CALSCALE:GREGORIAN
METHOD:PUBLISH
X-WR-CALNAME:OSCIA
X-ORIGINAL-URL:https://membership.ontariosoilcrop.org
X-WR-CALDESC:Events for OSCIA
REFRESH-INTERVAL;VALUE=DURATION:PT1H
X-Robots-Tag:noindex
X-PUBLISHED-TTL:PT1H
BEGIN:VTIMEZONE
TZID:America/Toronto
BEGIN:DAYLIGHT
TZOFFSETFROM:-0500
TZOFFSETTO:-0400
TZNAME:EDT
DTSTART:20240310T070000
END:DAYLIGHT
BEGIN:STANDARD
TZOFFSETFROM:-0400
TZOFFSETTO:-0500
TZNAME:EST
DTSTART:20241103T060000
END:STANDARD
BEGIN:DAYLIGHT
TZOFFSETFROM:-0500
TZOFFSETTO:-0400
TZNAME:EDT
DTSTART:20250309T070000
END:DAYLIGHT
BEGIN:STANDARD
TZOFFSETFROM:-0400
TZOFFSETTO:-0500
TZNAME:EST
DTSTART:20251102T060000
END:STANDARD
BEGIN:DAYLIGHT
TZOFFSETFROM:-0500
TZOFFSETTO:-0400
TZNAME:EDT
DTSTART:20260308T070000
END:DAYLIGHT
BEGIN:STANDARD
TZOFFSETFROM:-0400
TZOFFSETTO:-0500
TZNAME:EST
DTSTART:20261101T060000
END:STANDARD
END:VTIMEZONE
BEGIN:VEVENT
DTSTART;TZID=America/Toronto:20251205T090000
DTEND;TZID=America/Toronto:20251205T150000
DTSTAMP:20260423T055327
CREATED:20251103T182801Z
LAST-MODIFIED:20251113T153321Z
UID:10003174-1764925200-1764946800@membership.ontariosoilcrop.org
SUMMARY:Wellington SCIA Annual General Meeting
DESCRIPTION:You’re invited to attend the Wellington Soil and Crop Improvement Association (WSCIA) AGM!\nJoin us as we come together to discuss the latest in soil and crop innovation\, connect with fellow producers\, and celebrate another successful year in agriculture. \n\n📅 Date: Friday\, December 5\n📍 Location: Alma Bible Church \n\n\nWe encourage you to pre-register by November 27 to help us plan accordingly. Please see the attached flyer for full event details\, including the agenda and guest speakers. \n\n\nDon’t miss this opportunity to network\, learn\, and share ideas with others in our local agricultural community. \n\n\nWe look forward to seeing you there! \nFlyer – ANNUAL MEETING 2025
URL:https://membership.ontariosoilcrop.org/event/wellington-scia-annual-general-meeting/
LOCATION:Alma Bible Church\, Alma\, ON\, Canada
CATEGORIES:AGM,Conference,Event,General Interest,Heartland,Local Event,Provincial,Regional Event,Wellington
GEO:43.7309;-80.503287
END:VEVENT
BEGIN:VEVENT
DTSTART;TZID=America/Toronto:20251205T103000
DTEND;TZID=America/Toronto:20251205T150000
DTSTAMP:20260423T055327
CREATED:20251201T213208Z
LAST-MODIFIED:20251201T213208Z
UID:10003213-1764930600-1764946800@membership.ontariosoilcrop.org
SUMMARY:North Simcoe SCIA Annual General Meeting
DESCRIPTION:Join the North Simcoe Soil & Crop Improvement Association for their ANNUAL MEETING\, FRIDAY\, DECEMBER 5\, 2025. \nThe meeting will be held at the Our Lady of Lourdes Church Hall\, 106 Yonge St\, N\, Elmvale. \nDoors open at 10:15 am with coffee\, meeting begins at 10:30 am. \nAgenda: \nMinutes of 2024 meeting \nFinancial report for 2024-2025 \nNominate directors for 2026 \nAppoint delegates to OSCIA annual on February 3\, 2026 \nOSCIA – Field Representative \nBus trip 2025 – Glenn Simpson \nOSCIA – Andy van Niekerk \nLUNCH – Soup\, Sandwich\, Pie Lunch $15 per person \nMatt Ververs & Steve Jones – Compaction Event \nColin Marshall – Marshall insurance Barrie \nMike Cowbrough – OMAFA
URL:https://membership.ontariosoilcrop.org/event/north-simcoe-scia-annual-general-meeting/
LOCATION:Our Lady of Lourdes Church Hall\, Elmvale\, ON\, Canada
CATEGORIES:Georgian Central
ATTACH;FMTTYPE=image/png:https://membership.ontariosoilcrop.org/wp-content/uploads/2025/12/Copy-of-SAVE-the-Date.png
END:VEVENT
BEGIN:VEVENT
DTSTART;TZID=America/Toronto:20251210T080000
DTEND;TZID=America/Toronto:20251210T170000
DTSTAMP:20260423T055327
CREATED:20251120T182413Z
LAST-MODIFIED:20251120T182413Z
UID:10003197-1765353600-1765386000@membership.ontariosoilcrop.org
SUMMARY:Essex SCIA member meeting and bus trip
DESCRIPTION:“Where do your beans go?” Bus trip and tour of ADM Windsor Facility. Membership update and meeting. Contact scia-essex@ontariosoilcrop.org to register. Bus pick up points at Comber (9am)\, Manning Road (9:30am) or meet at ADM parking lot north of truck entrance (10am). $10 for SCIA members\, $50 for non-members (includes 2026 membership). Lunch complements of St. Clair Region SCIA
URL:https://membership.ontariosoilcrop.org/event/essex-scia-member-meeting-and-bus-trip/2025-12-10/1/
LOCATION:Essex County\, To be determined NULL\, Essex\, 9
CATEGORIES:Essex,St. Clair
GEO:NULL;NULL
X-APPLE-STRUCTURED-LOCATION;VALUE=URI;X-ADDRESS=Essex County To be determined NULL Essex 9;X-APPLE-RADIUS=500;X-TITLE=To be determined NULL:geo:NULL,NULL
END:VEVENT
BEGIN:VEVENT
DTSTART;TZID=America/Toronto:20251210T090000
DTEND;TZID=America/Toronto:20251210T130000
DTSTAMP:20260423T055327
CREATED:20251120T182413Z
LAST-MODIFIED:20251120T182413Z
UID:10003198-1765357200-1765371600@membership.ontariosoilcrop.org
SUMMARY:Essex SCIA member meeting and bus trip
DESCRIPTION:“Where do your beans go?” Bus trip and tour of ADM Windsor Facility. Membership update and meeting. Contact scia-essex@ontariosoilcrop.org to register. Bus pick up points at Comber (9am)\, Manning Road (9:30am) or meet at ADM parking lot north of truck entrance (10am). $10 for SCIA members\, $50 for non-members (includes 2026 membership). Lunch complements of St. Clair Region SCIA
URL:https://membership.ontariosoilcrop.org/event/essex-scia-member-meeting-and-bus-trip/2025-12-10/2/
LOCATION:Essex County\, To be determined NULL\, Essex\, 9
CATEGORIES:Essex,St. Clair
GEO:NULL;NULL
X-APPLE-STRUCTURED-LOCATION;VALUE=URI;X-ADDRESS=Essex County To be determined NULL Essex 9;X-APPLE-RADIUS=500;X-TITLE=To be determined NULL:geo:NULL,NULL
END:VEVENT
BEGIN:VEVENT
DTSTART;TZID=America/Toronto:20251211T090000
DTEND;TZID=America/Toronto:20251211T153000
DTSTAMP:20260423T055327
CREATED:20251202T142717Z
LAST-MODIFIED:20251209T201252Z
UID:10003217-1765443600-1765467000@membership.ontariosoilcrop.org
SUMMARY:Northumberland SCIA AGM + Speakers Platform
DESCRIPTION:The 2025 AGM for the Northumberland Soil & Crop Improvement Association is happening on Thursday\, December 11\, 2025 at Gathering Place\, St. Paul’s United Church in Warkworth\, ON (new location this year!). \nTentative Agenda:\n🕘   9:00 AM  Registration🕘   9:30 AM  Business Meeting🕙 10:30 AM  OSCIA Updates\n🎙   11:00 AM  Control programs for waterhemp + other nasties (Mike Cowbrough\, Weed Management Specialist\, OMAFA)🎙   12:00 PM  Agricorp coverage options: 2025 was THE year for crop insurance (Wendell Joyce\, Regional Manager\, AgriCorp)🕒  12:30 PM  Hot Lunch by the St. Paul’s UCW (Luncheon fee: $30.00)\n🎙     1:30 PM  Balanced crop nutrition for profitability (Aaron Stevanus\, Independent Agronomist)🎙     2:30 PM  Biochar production + testing (Norm Lamothe\, Woodleigh Farms)🕒    3:00 PM  Resolutions🕒    3:30 PM  Adjourn \nA great day to connect\, swap notes\, learn something new\, and renew your membership ($40) if it’s on the list. \nQuestions? Reach out to Eric at SCIA-Northumberland@ontariosoilcrop.org
URL:https://membership.ontariosoilcrop.org/event/northumberland-scia-agm-luncheon-speakers/
LOCATION:St. Paul’s United Church\, 60 Main Street\, Warkworth\, Ontario\, K0K 3K0\, Canada
CATEGORIES:Northumberland,Quinte
ATTACH;FMTTYPE=image/png:https://membership.ontariosoilcrop.org/wp-content/uploads/2025/12/NSCIA-AGM-600x600-3.png
END:VEVENT
BEGIN:VEVENT
DTSTART;TZID=America/Toronto:20251211T103000
DTEND;TZID=America/Toronto:20251211T150000
DTSTAMP:20260423T055327
CREATED:20251111T234859Z
LAST-MODIFIED:20251111T234933Z
UID:10003183-1765449000-1765465200@membership.ontariosoilcrop.org
SUMMARY:Grenville SCIA AGM
DESCRIPTION:See the picture below for the agenda for the day – lots of great speakers!
URL:https://membership.ontariosoilcrop.org/event/grenville-scia-agm-2/
LOCATION:Nation Masonic Lodge\, 36 Bennett St\, Spencerville\, ON\, Canada
CATEGORIES:Ottawa Rideau
ATTACH;FMTTYPE=image/jpeg:https://membership.ontariosoilcrop.org/wp-content/uploads/2025/11/Grenville-AGM-Meeting-Notice-2025-2-scaled.jpg
END:VEVENT
BEGIN:VEVENT
DTSTART;TZID=America/Toronto:20251212T103000
DTEND;TZID=America/Toronto:20251212T150000
DTSTAMP:20260423T055327
CREATED:20251112T023822Z
LAST-MODIFIED:20251112T195241Z
UID:10003184-1765535400-1765551600@membership.ontariosoilcrop.org
SUMMARY:Renfrew SCIA AGM
DESCRIPTION:Join fellow members to hear about what activities occurred in 2025 and start planning for 2026 as well as hear what funding opportunities are coming up and what is going on at the Provincial level.
URL:https://membership.ontariosoilcrop.org/event/renfrew-scia-agm/
LOCATION:Renfrew Armouries\, 115 Veterans Memorial NULL\, Renfrew\, 9\, Canada
CATEGORIES:Ottawa Rideau
GEO:45.4687971;-76.6759186
X-APPLE-STRUCTURED-LOCATION;VALUE=URI;X-ADDRESS=Renfrew Armouries 115 Veterans Memorial NULL Renfrew 9 Canada;X-APPLE-RADIUS=500;X-TITLE=115 Veterans Memorial NULL:geo:-76.6759186,45.4687971
END:VEVENT
BEGIN:VEVENT
DTSTART;TZID=America/Toronto:20251215T093000
DTEND;TZID=America/Toronto:20251215T153000
DTSTAMP:20260423T055327
CREATED:20251031T000719Z
LAST-MODIFIED:20260323T021542Z
UID:10003173-1765791000-1765812600@membership.ontariosoilcrop.org
SUMMARY:AG Summit and Local Annual General Meetings
DESCRIPTION:Niagara Peninsula\, Haldimand\, Hamilton-Wentworth and Halton-Peel Soil & Crop Association Ag Summit and Local Annual General Meeting  \nThis multi-county event brings together farmers\, agri-business professionals\, and industry leaders for a full day of networking\, learning\, and discussion on farm business\, agronomy\, and policy. \nDate: Monday December 15\, 2025 \nLocation: Ancaster Fairgrounds\, Concession Building\, Jerseyville \n \n  \nA practical\, fast-moving day focusing on farm business\, agronomy\, and policies to kickstart your 2026 plans. \nThis event will include OSCIA updates\, regional AGMs\, tradeshow\, hot lunch\, and farmer to farmer networking. Including guest speakers: Shaun Haney (founder and host of Real Agriculture)\, Hugh Loomans (President and CEO of Sylvite Holdings)\, and Peter Johnson (resident agronomist at Real Agriculture). \nStay Up To Date: Facebook Page \nPricing: \n\nEARLY-BIRD: All OSCIA members: $10 until Nov 20th\nAfter Nov 20th: $20 for OSCIA members\nNon-members: $50\n\nMemberships: The NPSCIA Board of Directors would like to encourage you to renew your Membership or if you do not have a Membership to become members of the NPSCIA in 2025-2026. You will receive regular newsletters and opportunities to attend Knowledge Sharing Events held by NPSCIA and other Associations. \n\nMemberships available to purchase/renew at the door! Please bring cash\, cheque\, or E-transfer to scia-niagara@ontariosoilcrop.org.\nPlease check the OSCIA website to ensure your membership is ACTIVE at: https://www.ontariosoilcrop.org.\nYearly OSCIA Membership is $50.00\, Youth Memberships $25.00\, Honorary Membership $25.00
URL:https://membership.ontariosoilcrop.org/event/ag-summitt-local-annual-general-meetings/
LOCATION:Ancaster Fairgrounds\, 630 Trinity Rd S NULL\, Jerseyville\, 9\, Canada
CATEGORIES:Golden Horseshoe,Haldimand,Halton,Hamilton-Wentworth,Niagara
ATTACH;FMTTYPE=image/jpeg:https://membership.ontariosoilcrop.org/wp-content/uploads/2025/10/OSCIA-Event-Main-Flyer_R1.jpg
GEO:43.1885985;-80.04283
X-APPLE-STRUCTURED-LOCATION;VALUE=URI;X-ADDRESS=Ancaster Fairgrounds 630 Trinity Rd S NULL Jerseyville 9 Canada;X-APPLE-RADIUS=500;X-TITLE=630 Trinity Rd S NULL:geo:-80.04283,43.1885985
END:VEVENT
BEGIN:VEVENT
DTSTART;TZID=America/Toronto:20251218T170000
DTEND;TZID=America/Toronto:20251218T210000
DTSTAMP:20260423T055327
CREATED:20251201T212833Z
LAST-MODIFIED:20260105T151455Z
UID:10003212-1766077200-1766091600@membership.ontariosoilcrop.org
SUMMARY:Grey County Soil & Crop Winter Meeting & AGM
DESCRIPTION:Join us for the Grey SCIA Winter Meeting – with a new evening time format this year! \nBring your spouse and enjoy an evening out with a delicious catered meal\, keynote speaker and social hour afterwards! \nThe evening kicks off at 5 pm at the Bogno Hall and the Keynote Presentation starts at 7 pm.  The Honourable Robert Black\, P. Ag. (HON) Senator (ON) will present Critical Ground: Why Soil is Essential to Canada’s Economic\, Environmental\, Human\, and Social Health\,  \nPRE-REGISTRATION IS REQUIRED BY DECEMBER 9TH in order for us to reserve your meal! Email georgiancentralscia@ontariosoilcrop.org or call 519-986-3756 to register.
URL:https://membership.ontariosoilcrop.org/event/grey-county-soil-crop-winter-meeting-agm/
LOCATION:Bognor Hall
CATEGORIES:Georgian Central
ATTACH;FMTTYPE=image/png:https://membership.ontariosoilcrop.org/wp-content/uploads/2025/12/SOCIAL-MEDIA-SAVE-THE-DATE.png
END:VEVENT
END:VCALENDAR