BEGIN:VCALENDAR
VERSION:2.0
PRODID:-//OSCIA - ECPv6.15.17.1//NONSGML v1.0//EN
CALSCALE:GREGORIAN
METHOD:PUBLISH
X-WR-CALNAME:OSCIA
X-ORIGINAL-URL:https://membership.ontariosoilcrop.org
X-WR-CALDESC:Events for OSCIA
REFRESH-INTERVAL;VALUE=DURATION:PT1H
X-Robots-Tag:noindex
X-PUBLISHED-TTL:PT1H
BEGIN:VTIMEZONE
TZID:America/Toronto
BEGIN:DAYLIGHT
TZOFFSETFROM:-0500
TZOFFSETTO:-0400
TZNAME:EDT
DTSTART:20240310T070000
END:DAYLIGHT
BEGIN:STANDARD
TZOFFSETFROM:-0400
TZOFFSETTO:-0500
TZNAME:EST
DTSTART:20241103T060000
END:STANDARD
BEGIN:DAYLIGHT
TZOFFSETFROM:-0500
TZOFFSETTO:-0400
TZNAME:EDT
DTSTART:20250309T070000
END:DAYLIGHT
BEGIN:STANDARD
TZOFFSETFROM:-0400
TZOFFSETTO:-0500
TZNAME:EST
DTSTART:20251102T060000
END:STANDARD
BEGIN:DAYLIGHT
TZOFFSETFROM:-0500
TZOFFSETTO:-0400
TZNAME:EDT
DTSTART:20260308T070000
END:DAYLIGHT
BEGIN:STANDARD
TZOFFSETFROM:-0400
TZOFFSETTO:-0500
TZNAME:EST
DTSTART:20261101T060000
END:STANDARD
END:VTIMEZONE
BEGIN:VEVENT
DTSTART;TZID=America/Toronto:20250707T073000
DTEND;TZID=America/Toronto:20250707T203000
DTSTAMP:20260423T181544
CREATED:20250626T141327Z
LAST-MODIFIED:20250702T174505Z
UID:10003084-1751873400-1751920200@membership.ontariosoilcrop.org
SUMMARY:OFCAF Nitrogen Management (Letter of Support) Information Session
DESCRIPTION:This session is for CCA -P.Ag to learn about Letter of Support Requirements. \nZoom Registration: https://us02web.zoom.us/meeting/register/ksm7LSbUREOYh8ccXuyCDg#/registration
URL:https://membership.ontariosoilcrop.org/event/ofcaf-nitrogen-management-information-session/
LOCATION:Online
CATEGORIES:Event,Info Sessions,Information Sessions,Programs,Provincial
END:VEVENT
END:VCALENDAR