BEGIN:VCALENDAR
VERSION:2.0
PRODID:-//OSCIA - ECPv6.15.17.1//NONSGML v1.0//EN
CALSCALE:GREGORIAN
METHOD:PUBLISH
X-WR-CALNAME:OSCIA
X-ORIGINAL-URL:https://membership.ontariosoilcrop.org
X-WR-CALDESC:Events for OSCIA
REFRESH-INTERVAL;VALUE=DURATION:PT1H
X-Robots-Tag:noindex
X-PUBLISHED-TTL:PT1H
BEGIN:VTIMEZONE
TZID:America/Toronto
BEGIN:DAYLIGHT
TZOFFSETFROM:-0500
TZOFFSETTO:-0400
TZNAME:EDT
DTSTART:20250309T070000
END:DAYLIGHT
BEGIN:STANDARD
TZOFFSETFROM:-0400
TZOFFSETTO:-0500
TZNAME:EST
DTSTART:20251102T060000
END:STANDARD
BEGIN:DAYLIGHT
TZOFFSETFROM:-0500
TZOFFSETTO:-0400
TZNAME:EDT
DTSTART:20260308T070000
END:DAYLIGHT
BEGIN:STANDARD
TZOFFSETFROM:-0400
TZOFFSETTO:-0500
TZNAME:EST
DTSTART:20261101T060000
END:STANDARD
BEGIN:DAYLIGHT
TZOFFSETFROM:-0500
TZOFFSETTO:-0400
TZNAME:EDT
DTSTART:20270314T070000
END:DAYLIGHT
BEGIN:STANDARD
TZOFFSETFROM:-0400
TZOFFSETTO:-0500
TZNAME:EST
DTSTART:20271107T060000
END:STANDARD
END:VTIMEZONE
BEGIN:VEVENT
DTSTART;TZID=America/Toronto:20260225T103000
DTEND;TZID=America/Toronto:20260225T113000
DTSTAMP:20260423T043741
CREATED:20260220T193803Z
LAST-MODIFIED:20260220T193803Z
UID:10003283-1772015400-1772019000@membership.ontariosoilcrop.org
SUMMARY:Stormont Seed and Forage Show Entries
DESCRIPTION:69th Stormont Seed and Forage Show Entries
URL:https://membership.ontariosoilcrop.org/event/stormont-seed-and-forage-show-entries-2/
LOCATION:Crysler Community Centre\, Crysler\, ON\, Canada
CATEGORIES:Stormont
ATTACH;FMTTYPE=image/jpeg:https://membership.ontariosoilcrop.org/wp-content/uploads/2026/02/Advertising-page1.jpg
GEO:45.2197249;-75.153922
END:VEVENT
BEGIN:VEVENT
DTSTART;TZID=America/Toronto:20260226T180000
DTEND;TZID=America/Toronto:20260226T210000
DTSTAMP:20260423T043741
CREATED:20260220T194333Z
LAST-MODIFIED:20260220T194333Z
UID:10003284-1772128800-1772139600@membership.ontariosoilcrop.org
SUMMARY:Crysler Farm Show Day1
DESCRIPTION:Crysler Farm Show Day 1\, Presentations are on Day 2\, February 27 at 3 pm
URL:https://membership.ontariosoilcrop.org/event/crysler-farm-show-day1/
LOCATION:Crysler Community Centre\, Crysler\, ON\, Canada
CATEGORIES:Stormont
ATTACH;FMTTYPE=image/jpeg:https://membership.ontariosoilcrop.org/wp-content/uploads/2026/02/20250228_153916.jpg
GEO:45.2197249;-75.153922
END:VEVENT
BEGIN:VEVENT
DTSTART;TZID=America/Toronto:20260227T100000
DTEND;TZID=America/Toronto:20260227T160000
DTSTAMP:20260423T043741
CREATED:20260220T195445Z
LAST-MODIFIED:20260220T195445Z
UID:10003285-1772186400-1772208000@membership.ontariosoilcrop.org
SUMMARY:Crysler Farm Show Day2
DESCRIPTION:Crysler Farm Show Day 2
URL:https://membership.ontariosoilcrop.org/event/crysler-farm-show-day2/
LOCATION:Crysler Community Centre\, Crysler\, ON\, Canada
CATEGORIES:Stormont
ATTACH;FMTTYPE=image/jpeg:https://membership.ontariosoilcrop.org/wp-content/uploads/2026/02/20250228_153916-1.jpg
GEO:45.2197249;-75.153922
END:VEVENT
END:VCALENDAR