BEGIN:VCALENDAR
VERSION:2.0
PRODID:-//OSCIA - ECPv6.15.17.1//NONSGML v1.0//EN
CALSCALE:GREGORIAN
METHOD:PUBLISH
X-ORIGINAL-URL:https://membership.ontariosoilcrop.org
X-WR-CALDESC:Events for OSCIA
REFRESH-INTERVAL;VALUE=DURATION:PT1H
X-Robots-Tag:noindex
X-PUBLISHED-TTL:PT1H
BEGIN:VTIMEZONE
TZID:America/Toronto
BEGIN:DAYLIGHT
TZOFFSETFROM:-0500
TZOFFSETTO:-0400
TZNAME:EDT
DTSTART:20220313T070000
END:DAYLIGHT
BEGIN:STANDARD
TZOFFSETFROM:-0400
TZOFFSETTO:-0500
TZNAME:EST
DTSTART:20221106T060000
END:STANDARD
BEGIN:DAYLIGHT
TZOFFSETFROM:-0500
TZOFFSETTO:-0400
TZNAME:EDT
DTSTART:20230312T070000
END:DAYLIGHT
BEGIN:STANDARD
TZOFFSETFROM:-0400
TZOFFSETTO:-0500
TZNAME:EST
DTSTART:20231105T060000
END:STANDARD
BEGIN:DAYLIGHT
TZOFFSETFROM:-0500
TZOFFSETTO:-0400
TZNAME:EDT
DTSTART:20240310T070000
END:DAYLIGHT
BEGIN:STANDARD
TZOFFSETFROM:-0400
TZOFFSETTO:-0500
TZNAME:EST
DTSTART:20241103T060000
END:STANDARD
END:VTIMEZONE
BEGIN:VEVENT
DTSTART;TZID=America/Toronto:20230815T110000
DTEND;TZID=America/Toronto:20230815T143000
DTSTAMP:20260422T215952
CREATED:20230811T132405Z
LAST-MODIFIED:20230811T132751Z
UID:10001408-1692097200-1692109800@membership.ontariosoilcrop.org
SUMMARY:Farm Family Day
DESCRIPTION:You are invited to join the farm families in Grenville county to celebrate for this annual celebration of Agriculture! \nThis day will include discussions about all things soybeans and include lunch with friends. Plus\, there is a tour of Curvue Farms new barn! \nIce cream and milk is sponsored by the Grenville Dairy Producers. \nFor more information\, please contact Bryan Cook at 613-340-4607 \n 
URL:https://membership.ontariosoilcrop.org/event/auto-draft/
LOCATION:Curvue Farms\, 864 Kilmarnock Road\, Jasper\, Ontario\, K0G 1G0\, Canada
CATEGORIES:Frontenac,Grenville,Lanark,Leeds,Ottawa Carleton,Ottawa Rideau,Renfrew
ATTACH;FMTTYPE=image/png:https://membership.ontariosoilcrop.org/wp-content/uploads/2023/08/Grenville_Farm-Family-Day-2023.png
END:VEVENT
BEGIN:VEVENT
DTSTART;TZID=America/Toronto:20230803T120000
DTEND;TZID=America/Toronto:20230803T200000
DTSTAMP:20260422T215952
CREATED:20230616T132709Z
LAST-MODIFIED:20230616T132709Z
UID:10001434-1691064000-1691092800@membership.ontariosoilcrop.org
SUMMARY:Local Event: Eastern Ontario Women in Ag Network Golf Tournament
DESCRIPTION:Come and golf to support local food banks and to support individuals by providing bursaries in Ag! If you have never played golf\, do not worry! This is all just for fun and will include playing a 9 hole game and other fun activities plus a great supper and proceeds will go to  please register by clicking the registration link! \nVenez jouer au golf pour soutenir les banques alimentaires locales et soutenir les particuliers en offrant des bourses en Ag! Si vous n'avez jamais joué au golf\, ne vous inquiétez pas ! Tout cela est juste pour le plaisir et inclura jouer à un jeu de 9 trous et d'autres activités amusantes plus un excellent dîner  s'il vous plaît inscrivez-vous en cliquant sur le lien d'inscription !\nSi vous n’avez jamais joué au golf\, ne vous inquiétez pas ! Tout cela est juste pour le plaisir et inclura jouer à un jeu de 9 trous et d’autres activités amusantes plus un excellent dîner  s’il vous plaît inscrivez-vous en cliquant sur le lien d’inscription ! \nhttps://anderson-links-golf-club.golfems2.com/event/eastern-ontario-women-agriculture-network-tournament?fbclid=IwAR1RGUFrCRGVpDxpSh_WsMtpifjC-2hJ6phwU1SnSNl9gVmuPK3zdt70yC0
URL:https://membership.ontariosoilcrop.org/event/local-event-eastern-ontario-women-in-ag-network-golf-tournament/
CATEGORIES:Frontenac,Glengarry,Grenville,Lanark,Leeds,Ottawa Carleton,Prescott,Renfrew
ATTACH;FMTTYPE=image/jpeg:https://membership.ontariosoilcrop.org/wp-content/uploads/2023/06/EOWIAN_backgrounddigital.jpg
END:VEVENT
BEGIN:VEVENT
DTSTART;VALUE=DATE:20230726
DTEND;VALUE=DATE:20230727
DTSTAMP:20260422T215952
CREATED:20230616T131525Z
LAST-MODIFIED:20230616T143148Z
UID:10001432-1690329600-1690415999@membership.ontariosoilcrop.org
SUMMARY:Summer Tour 2023
DESCRIPTION:Mark your calendars as busy on July 26th\, 2023! \nLast year we had a great time and filled all spots available for Summer Tour 2022. We hope to do the same this year! Stay tuned to learn more about Summer Tour 2023. The event agenda is currently to be determined.
URL:https://membership.ontariosoilcrop.org/event/summer-tour-2023/
CATEGORIES:Frontenac,Grenville,Lanark,Leeds,Ottawa Carleton,Renfrew
ATTACH;FMTTYPE=image/png:https://membership.ontariosoilcrop.org/wp-content/uploads/2023/06/EventImg_V1.png
END:VEVENT
BEGIN:VEVENT
DTSTART;TZID=America/Toronto:20230719T080000
DTEND;TZID=America/Toronto:20230719T200000
DTSTAMP:20260422T215952
CREATED:20230616T145330Z
LAST-MODIFIED:20230616T145330Z
UID:10001436-1689753600-1689796800@membership.ontariosoilcrop.org
SUMMARY:Renfrew SCIA Summer Bus Tour
DESCRIPTION:Pick ups available in Cobden\, Renfrew and Arnprior \nBus Tour Stops: \nAgri fusion\nAgri-Fusion is one of the biggest organic farms in Canada with 2\,650 hectares in production\nLa Ferme Quinn\nRetail & Marketgarden – growing season starting with asparagus and running all the way to Christmas Trees\nSucrerie de la Montagne\nMaple syrup presentation with authentic sugar shack evening dinner \nMacDonald College \nFor more information\, please contact Alex or Betty Briscoe 613-432-5572 or renfrewscia@gmail.com
URL:https://membership.ontariosoilcrop.org/event/renfrew-scia-summer-bus-tour/
CATEGORIES:Frontenac,Grenville,Lanark,Leeds,Ottawa Carleton,Renfrew
ATTACH;FMTTYPE=image/png:https://membership.ontariosoilcrop.org/wp-content/uploads/2023/06/RenfrewBusTour_webimg.png
END:VEVENT
END:VCALENDAR