BEGIN:VCALENDAR
VERSION:2.0
PRODID:-//OSCIA - ECPv6.15.17.1//NONSGML v1.0//EN
CALSCALE:GREGORIAN
METHOD:PUBLISH
X-WR-CALNAME:OSCIA
X-ORIGINAL-URL:https://membership.ontariosoilcrop.org
X-WR-CALDESC:Events for OSCIA
REFRESH-INTERVAL;VALUE=DURATION:PT1H
X-Robots-Tag:noindex
X-PUBLISHED-TTL:PT1H
BEGIN:VTIMEZONE
TZID:America/Toronto
BEGIN:DAYLIGHT
TZOFFSETFROM:-0500
TZOFFSETTO:-0400
TZNAME:EDT
DTSTART:20250309T070000
END:DAYLIGHT
BEGIN:STANDARD
TZOFFSETFROM:-0400
TZOFFSETTO:-0500
TZNAME:EST
DTSTART:20251102T060000
END:STANDARD
BEGIN:DAYLIGHT
TZOFFSETFROM:-0500
TZOFFSETTO:-0400
TZNAME:EDT
DTSTART:20260308T070000
END:DAYLIGHT
BEGIN:STANDARD
TZOFFSETFROM:-0400
TZOFFSETTO:-0500
TZNAME:EST
DTSTART:20261101T060000
END:STANDARD
BEGIN:DAYLIGHT
TZOFFSETFROM:-0500
TZOFFSETTO:-0400
TZNAME:EDT
DTSTART:20270314T070000
END:DAYLIGHT
BEGIN:STANDARD
TZOFFSETFROM:-0400
TZOFFSETTO:-0500
TZNAME:EST
DTSTART:20271107T060000
END:STANDARD
END:VTIMEZONE
BEGIN:VEVENT
DTSTART;TZID=America/Toronto:20260122T091500
DTEND;TZID=America/Toronto:20260122T140000
DTSTAMP:20260423T160340
CREATED:20260106T150659Z
LAST-MODIFIED:20260106T150659Z
UID:10003229-1769073300-1769090400@membership.ontariosoilcrop.org
SUMMARY:Ottawa Carleton SCIA 2026 AGM
DESCRIPTION:Join us at the Ottawa Carleton Soil and Crop Improvement Association Annual General Meeting being held at the Stittsville Legion – 1484 Stittsville Main St on January 22nd. \nWe hope you can join us for Soil and Crop updates on programs available for the upcoming year as well as our great guest speakers! \nTopics include Agricorp Update Where does our fertilizer come from\, and a CCA Panel that you can ask questions and discus the 2025 drought. \nRegistration is at 9:15\, speakers start at 9:30. There will be coffee and donuts before the meeting as well as lunch provided at a cost of $25 per person. We will plan to adjourn at 2pm. \n  \nFor more information\, contact please Julia at scia-ottawa-carleton@ontariosoilcrop.org.
URL:https://membership.ontariosoilcrop.org/event/ottawa-carleton-scia-2026-agm/
LOCATION:Stittsville Legion\, 1481 Stittsville Main Street\, Stittsville\, ON\, Canada
CATEGORIES:Association,Event,Local Event,Ottawa Carleton
GEO:45.2596196;-75.92141
X-APPLE-STRUCTURED-LOCATION;VALUE=URI;X-ADDRESS=Stittsville Legion 1481 Stittsville Main Street Stittsville ON Canada;X-APPLE-RADIUS=500;X-TITLE=1481 Stittsville Main Street:geo:-75.92141,45.2596196
END:VEVENT
END:VCALENDAR