BEGIN:VCALENDAR
VERSION:2.0
PRODID:-//OSCIA - ECPv6.15.17.1//NONSGML v1.0//EN
CALSCALE:GREGORIAN
METHOD:PUBLISH
X-WR-CALNAME:OSCIA
X-ORIGINAL-URL:https://membership.ontariosoilcrop.org
X-WR-CALDESC:Events for OSCIA
REFRESH-INTERVAL;VALUE=DURATION:PT1H
X-Robots-Tag:noindex
X-PUBLISHED-TTL:PT1H
BEGIN:VTIMEZONE
TZID:America/Toronto
BEGIN:DAYLIGHT
TZOFFSETFROM:-0500
TZOFFSETTO:-0400
TZNAME:EDT
DTSTART:20220313T070000
END:DAYLIGHT
BEGIN:STANDARD
TZOFFSETFROM:-0400
TZOFFSETTO:-0500
TZNAME:EST
DTSTART:20221106T060000
END:STANDARD
BEGIN:DAYLIGHT
TZOFFSETFROM:-0500
TZOFFSETTO:-0400
TZNAME:EDT
DTSTART:20230312T070000
END:DAYLIGHT
BEGIN:STANDARD
TZOFFSETFROM:-0400
TZOFFSETTO:-0500
TZNAME:EST
DTSTART:20231105T060000
END:STANDARD
BEGIN:DAYLIGHT
TZOFFSETFROM:-0500
TZOFFSETTO:-0400
TZNAME:EDT
DTSTART:20240310T070000
END:DAYLIGHT
BEGIN:STANDARD
TZOFFSETFROM:-0400
TZOFFSETTO:-0500
TZNAME:EST
DTSTART:20241103T060000
END:STANDARD
BEGIN:DAYLIGHT
TZOFFSETFROM:-0500
TZOFFSETTO:-0400
TZNAME:EDT
DTSTART:20250309T070000
END:DAYLIGHT
BEGIN:STANDARD
TZOFFSETFROM:-0400
TZOFFSETTO:-0500
TZNAME:EST
DTSTART:20251102T060000
END:STANDARD
END:VTIMEZONE
BEGIN:VEVENT
DTSTART;TZID=America/Toronto:20240920T130000
DTEND;TZID=America/Toronto:20240920T160000
DTSTAMP:20260425T145812
CREATED:20240906T144634Z
LAST-MODIFIED:20240913T151530Z
UID:10002830-1726837200-1726848000@membership.ontariosoilcrop.org
SUMMARY:Fall Demo Day at Huronview Demonstration Farm
DESCRIPTION:Join Ausable Bayfield Conservation Authority\, Heartland SCIA OSCIA\, and Drone Spray Canada to learn about Cover Crop Planting and late season harvest! \nJoin Huron Soil and Crop for a cover crop planting demonstration at the Huronview Demonstration Farm! A modified sprayer and drone will demonstrate the planting of oats in soybeans. This in-person event will take place behind the Health Unit\, so be sure to mark your calendars. \nLocation: Huronview Demonstration Farm – 77722 London Road (behind the health unit follow the signs) \nDate: September 20th\, 2024 \nTime: 1pm – 4pm \nRegister (free) here. \nParking Information:
URL:https://membership.ontariosoilcrop.org/event/heartland-scia-fall-demo-day-at-huronview-demonstration-farm/
LOCATION:Huronview Farm\, 77722 London Rd - behind the Health Unit\, Clinton\, ON\, Canada
CATEGORIES:Cover Cropping,Heartland,Huron,KSE,ONFARM
GEO:43.5981871;-81.5313086
X-APPLE-STRUCTURED-LOCATION;VALUE=URI;X-ADDRESS=Huronview Farm 77722 London Rd - behind the Health Unit Clinton ON Canada;X-APPLE-RADIUS=500;X-TITLE=77722 London Rd - behind the Health Unit:geo:-81.5313086,43.5981871
END:VEVENT
BEGIN:VEVENT
DTSTART;TZID=America/Toronto:20240816T140000
DTEND;TZID=America/Toronto:20240816T160000
DTSTAMP:20260425T145812
CREATED:20240717T201806Z
LAST-MODIFIED:20240717T201852Z
UID:10002806-1723816800-1723824000@membership.ontariosoilcrop.org
SUMMARY:Huron County SCIA Equipment and Crop Demonstration
DESCRIPTION:Thinking of changing to strip till or upgrading your existing strip tiller? Or you just want to see some big equipment? Come on out to the Huron County Soil and Crop demonstration day this August! We have the best and top of the line equipment lined up for you to see\, live in action. There will be a cover crop demonstration on display in the field as well. \n\n\n\nThe Huron County Plowmen’s 96th Annual Plowing Match\, hosted by the Vermue Family\, is taking place on August 15 & 16\, 2024. On Friday August 16th\, the Huron County Soil and Crop Improvement Association will be joining the event from 2-4pm for an equipment and crop demonstration. \n\n\n\nLunch will be served by Tracey’s Tasty food Truck from 11am to 3pm; and a Plowmen’s Banquet\, catered by Cardiff’s\, will be served at 5:30pm. Dinner tickets are available through Joan Vincent at 519-357-2336. Dinner tickets: Adults – $25\, children 6-12 – $12\, children 5 and under – free. \n\n\n\nFor more information\, please click here or contact Anèl Dannhauser at heartlandscia@ontariosoilcrop.org or Sharon Devine at huronsoilandcrop@gmail.com.
URL:https://membership.ontariosoilcrop.org/event/huron-county-soil-and-crop-equipment-and-crop-demonstration/
LOCATION:36118 Bayfield River Road\, Bayfield
CATEGORIES:Event,Heartland,Huron
END:VEVENT
BEGIN:VEVENT
DTSTART;TZID=America/Toronto:20240709T093000
DTEND;TZID=America/Toronto:20240709T170000
DTSTAMP:20260425T145812
CREATED:20240703T141347Z
LAST-MODIFIED:20240703T141347Z
UID:10002799-1720517400-1720544400@membership.ontariosoilcrop.org
SUMMARY:Bruce County Mystery Bus Tour
DESCRIPTION:Join Bruce County Soil & Crop for their Mystery Bus Tour\, Tuesday July 9th 2024! \nThe tour starts at 9:30 am with the bus departing from Paul Legge’s farm\, in the Chesley area. A guest agronomist will guide the stops through ‘mystery’ fields and bagged lunches will be provided. The day wraps up with a BBQ back at Legge’s farm around 3:30 pm. \nThe cost for the day is $25 per person. \nPlease pre-register by emailing georgiancentralscia@ontariosoilcrop.org or calling 519-986-3756.
URL:https://membership.ontariosoilcrop.org/event/bruce-county-mystery-bus-tour/
LOCATION:Chesley ON
CATEGORIES:Bruce,Dufferin,Georgian Central,Grey,Huron,Perth,Simcoe North,Wellington
ATTACH;FMTTYPE=image/png:https://membership.ontariosoilcrop.org/wp-content/uploads/2024/07/BRUCE-COUNTY-MYSTERY-BUS-TOUR.png
END:VEVENT
BEGIN:VEVENT
DTSTART;TZID=America/Toronto:20240215T133000
DTEND;TZID=America/Toronto:20240215T150000
DTSTAMP:20260425T145812
CREATED:20240117T194711Z
LAST-MODIFIED:20240117T194711Z
UID:10001655-1708003800-1708009200@membership.ontariosoilcrop.org
SUMMARY:Fair is not Equal: Strategies and Challenges of Passing on the Farm
DESCRIPTION:Estate\, succession\, transition – call it what you want\, it can be a challenging\, difficult and cumbersome process.  The aim of this course is to get you started\, and provide pointers to help get a plan in place\, whether you are the older or younger generation.  Robert (Bob) specializes in agricultural law.  He co-authored “Agriculture Law in Canada 2nd Ed.”.  With his spouse\, he operates a mixed cash crop and beef cattle farm in Grey County.  \nPresented by: Robert W. Scriven\, Partner\, Bennett Grant LLP \nThursday February 15th\, 2024\, 1:30 – 3:30 pm at Grey Ag Services. $20. Registration is required.  \nFind more info at:\nhttps://www.greyagservices.ca/courses-webinars\ninfo@greyagservices.ca\n519-986-3756 
URL:https://membership.ontariosoilcrop.org/event/fair-is-not-equal-strategies-and-challenges-of-passing-on-the-farm/
LOCATION:Grey Ag Services\, 206 Toronto St S\, Markdale\, Ontario\, N0C 1H0\, Canada
CATEGORIES:Bruce,Dufferin,Georgian Central,Grey,Huron,Perth,Simcoe North,Wellington
ATTACH;FMTTYPE=image/png:https://membership.ontariosoilcrop.org/wp-content/uploads/2024/01/Fair-is-Not-Equal-Poster-Instagram-Post.png
GEO:44.3139564;-80.6402928
X-APPLE-STRUCTURED-LOCATION;VALUE=URI;X-ADDRESS=Grey Ag Services 206 Toronto St S Markdale Ontario N0C 1H0 Canada;X-APPLE-RADIUS=500;X-TITLE=206 Toronto St S:geo:-80.6402928,44.3139564
END:VEVENT
BEGIN:VEVENT
DTSTART;TZID=America/Toronto:20240214T100000
DTEND;TZID=America/Toronto:20240214T170000
DTSTAMP:20260425T145812
CREATED:20240117T193150Z
LAST-MODIFIED:20240117T193150Z
UID:10001654-1707904800-1707930000@membership.ontariosoilcrop.org
SUMMARY:Setting Calves up for Success: Building Quality Along the Cow-Calf\, Backgrounding\, and Feedlot Continuum
DESCRIPTION:Morning segment will include discussion on building calf quality and feedlot preparedness as well as targets for backgrounding cattle. The afternoon session will be held on farm at Tupling Farms. This is a feedlot producer who buys Ontario calves and will speak to what he looks for when purchasing.  \nPresented by: Megan Van Schaik & James Byrne\, both Beef Specialists at OMAFRA\, and Bert Tupling\, owner of Tupling Farms  \nWednesday February 14th\, 2024\, 10:00 am – 5:00 pm. Morning at Grey Ag Services\, afternoon at Tupling Farms. $40\, includes lunch. Registration is required by February 9th.  \nFind more info at: https://www.greyagservices.ca/courses-webinars info@greyagservices.ca 519-986-3756 
URL:https://membership.ontariosoilcrop.org/event/setting-calves-up-for-success-building-quality-along-the-cow-calf-backgrounding-and-feedlot-continuum/
LOCATION:Grey Ag Services\, 206 Toronto St S\, Markdale\, Ontario\, N0C 1H0\, Canada
CATEGORIES:Bruce,Dufferin,Georgian Central,Grey,Huron,Perth,Simcoe North,Wellington
ATTACH;FMTTYPE=image/png:https://membership.ontariosoilcrop.org/wp-content/uploads/2024/01/Setting-Calves-Up-For-Success-Poster-Instagram-Post.png
GEO:44.3139564;-80.6402928
X-APPLE-STRUCTURED-LOCATION;VALUE=URI;X-ADDRESS=Grey Ag Services 206 Toronto St S Markdale Ontario N0C 1H0 Canada;X-APPLE-RADIUS=500;X-TITLE=206 Toronto St S:geo:-80.6402928,44.3139564
END:VEVENT
BEGIN:VEVENT
DTSTART;TZID=America/Toronto:20240207T190000
DTEND;TZID=America/Toronto:20240207T200000
DTSTAMP:20260425T145812
CREATED:20240117T191643Z
LAST-MODIFIED:20240125T145730Z
UID:10001651-1707332400-1707336000@membership.ontariosoilcrop.org
SUMMARY:Figuring Out Frost Seeding (Virtual)
DESCRIPTION:Frost seeding is a popular way to renovate a hay field or pasture. This webinar will cover key considerations to set yourself up for success ahead of the 2024 frost seeding window.  \nPresented by: Christine O’Reilly\, Forage & Grazing Specialist at OMAFRA  \nWednesday February 7th\, 2024\, 7:00 – 8:00 pm on Zoom. $12. Registration is required: https://www.eventbrite.ca/e/figuring-out-frost-seeding-tickets-769731998127 
URL:https://membership.ontariosoilcrop.org/event/figuring-out-frost-seeding/
LOCATION:Online
CATEGORIES:Bruce,Dufferin,Georgian Central,Grey,Huron,KSE,Perth,Rotational Grazing Systems,Simcoe North,Wellington
ATTACH;FMTTYPE=image/png:https://membership.ontariosoilcrop.org/wp-content/uploads/2024/01/Frost-Seeding-Poster-Instagram-Post.png
ORGANIZER;CN="Grey County Agricultural Services":MAILTO:info@greyagservices.ca
END:VEVENT
BEGIN:VEVENT
DTSTART;TZID=America/Toronto:20240125T170000
DTEND;TZID=America/Toronto:20240125T220000
DTSTAMP:20260425T145812
CREATED:20240106T093110Z
LAST-MODIFIED:20240106T093110Z
UID:10001451-1706202000-1706220000@membership.ontariosoilcrop.org
SUMMARY:Huron County AGM
DESCRIPTION:Our AGM will be at the Holmesville Community Centre this year on January 25.  It is an evening event with doors open at 5:00 p.m.  Dinner is free for one with a renewed membership and $25 for non-members or significant others.  Speakers include Peter Johnson “Wheat Pete” Real Agriculture\, Arjan van der Eijk from IT-Works on cyber security on the farm and Dean Shanz CCA-ON on slow release fertilizers.  There will also be an update on all last year’s activities and the demo farm at Huronview.
URL:https://membership.ontariosoilcrop.org/event/huron-county-agm/
LOCATION:Holmesville Community Centre\, Community Centre Rd\, Holmesville\, ON\, Canada
CATEGORIES:Heartland,Huron
GEO:43.6445479;-81.6045954
X-APPLE-STRUCTURED-LOCATION;VALUE=URI;X-ADDRESS=Holmesville Community Centre Community Centre Rd Holmesville ON Canada;X-APPLE-RADIUS=500;X-TITLE=Community Centre Rd:geo:-81.6045954,43.6445479
END:VEVENT
BEGIN:VEVENT
DTSTART;VALUE=DATE:20240119
DTEND;VALUE=DATE:20240120
DTSTAMP:20260425T145812
CREATED:20231201T150029Z
LAST-MODIFIED:20231201T185854Z
UID:10001433-1705622400-1705708799@membership.ontariosoilcrop.org
SUMMARY:Midwest Ag Conference
DESCRIPTION:Golden Horseshoe SCIA and Heartland SCIA are co-hosting the Midwest Ag Conference at RIM Park\, Waterloo on January 19\, 2024. \nLearn more about: \nSoil Biology and Biologicals \nPractical Paths to Improving Soil Health \nResidue Management & Tillage Optimization \nOptimizing Grain Crop Agronomy \nSoil Focus:  Building Your Soil Utopia \nTo sign up\, visit the Ontario Ag Conference website at https://www.ontarioagconference.ca/
URL:https://membership.ontariosoilcrop.org/event/midwest-ag-conference/
LOCATION:RIM Park Manulife Sportsplex\, 2001 University Ave. E.\, Waterloo\, Ontario\, Canada
CATEGORIES:Brant,Golden Horseshoe,Haldimand,Halton,Hamilton-Wentworth,Heartland,Huron,Niagara,Norfolk,Perth,Waterloo,Wellington
ATTACH;FMTTYPE=image/png:https://membership.ontariosoilcrop.org/wp-content/uploads/2023/12/Logo-Approved.png
END:VEVENT
BEGIN:VEVENT
DTSTART;TZID=America/Toronto:20240118T093000
DTEND;TZID=America/Toronto:20240118T153000
DTSTAMP:20260425T145812
CREATED:20231121T212114Z
LAST-MODIFIED:20231206T151429Z
UID:10001597-1705570200-1705591800@membership.ontariosoilcrop.org
SUMMARY:Bruce County Winter Meeting
DESCRIPTION:Please mark your calendars for Bruce County SCIA’s Winter Meeting – January 18th 2024 from 9:30 am to 3:30 pm. \nThe meeting will be moving to a new location this year\, the Cargill Community Centre\, 999 Greenock Brant Townline\, Cargill ON\, N0G 1J0. \nTopics will include: \n· How to do practical or essential precision ag\n· How to setup good on-farm trials\n· Nitrogen emissions???\n· Hay as a cash crop\n· And perennial updates for OSCIA/OMAFRA. \nA hot lunch will be catered by Harley’s Pub & Perk from Mildmay. \nIf you have crop plot results that you would like shared during the meeting\, please forward them to Jonathan Zettler or another Bruce SCIA director. \nPlease pre-register for the meeting by emailing info@greyagservices.ca or calling 519-986-3756.
URL:https://membership.ontariosoilcrop.org/event/bruce-county-winter-meeting/
LOCATION:Cargill Community Centre\, 999 Greenock Brant Townline\, Cargill\, Ontario\, N0G 1J0\, Canada
CATEGORIES:Bruce,Dufferin,Georgian Central,Grey,Huron,KSE,Nitrogen Management,Perth,Simcoe North,Wellington
ATTACH;FMTTYPE=image/png:https://membership.ontariosoilcrop.org/wp-content/uploads/2023/11/Bruce-County-Soil-Crop-Winter-Meeting.png
END:VEVENT
BEGIN:VEVENT
DTSTART;TZID=America/Toronto:20230818T140000
DTEND;TZID=America/Toronto:20230818T160000
DTSTAMP:20260425T145812
CREATED:20230721T220107Z
LAST-MODIFIED:20230803T140941Z
UID:10001494-1692367200-1692374400@membership.ontariosoilcrop.org
SUMMARY:Strip Till Demonstration and planted Cover Crop Demo Field
DESCRIPTION:Come on out to the Huron Soil and Crop Improvement Association Booth at the Huron County Plowing Match to see the top off the line strip till equipment in action and much more equipment on display!  There will also be different plots of cover crop seeded down to see what works best on your farm!
URL:https://membership.ontariosoilcrop.org/event/strip-till-demonstration-and-planted-cover-crop-demo-field/
LOCATION:ON
CATEGORIES:Huron
END:VEVENT
BEGIN:VEVENT
DTSTART;TZID=America/Toronto:20230727T193000
DTEND;TZID=America/Toronto:20230727T210000
DTSTAMP:20260425T145812
CREATED:20230613T182236Z
LAST-MODIFIED:20230613T194500Z
UID:10001427-1690486200-1690491600@membership.ontariosoilcrop.org
SUMMARY:Soil Health Open Discussion
DESCRIPTION:Join Georgian Central Region for an open discussion night with Dr. Lee Breise on Thursday July 27th 2023 from 7:30 – 9:00 pm. \nAll are welcome to join this free online event! Dr. Lee Breise is a doctor of plant health\, agronomist and soil scientist for Centrol Ag Consulting from North Dakota USA. There will be lots of opportunity for questions and pre-registration is not required (although if you’d like a reminder\, you can email us to be put on the reminder list!!) \nThe Zoom meeting will be held at: https:/tinyurl.com/kupeuf3u \nJoining from a combine? You can call in and listen to the meeting! Phone: 1-647-374-4685. Zoom meeting ID: 814 6172 6319\, Passcode: 359535. \nWe will be recording the presentation. For more information\, please email lorie@greyagservices.ca or call our office at: 519-986-3756.
URL:https://membership.ontariosoilcrop.org/event/soil-health-open-discussion/
LOCATION:ON
CATEGORIES:Bruce,Dufferin,Grey,Huron,Perth,Simcoe North,Wellington
ATTACH;FMTTYPE=image/png:https://membership.ontariosoilcrop.org/wp-content/uploads/2023/06/Lee-Breise-SM-1.png
END:VEVENT
END:VCALENDAR