BEGIN:VCALENDAR
VERSION:2.0
PRODID:-//OSCIA - ECPv6.15.17.1//NONSGML v1.0//EN
CALSCALE:GREGORIAN
METHOD:PUBLISH
X-ORIGINAL-URL:https://membership.ontariosoilcrop.org
X-WR-CALDESC:Events for OSCIA
REFRESH-INTERVAL;VALUE=DURATION:PT1H
X-Robots-Tag:noindex
X-PUBLISHED-TTL:PT1H
BEGIN:VTIMEZONE
TZID:America/Toronto
BEGIN:DAYLIGHT
TZOFFSETFROM:-0500
TZOFFSETTO:-0400
TZNAME:EDT
DTSTART:20250309T070000
END:DAYLIGHT
BEGIN:STANDARD
TZOFFSETFROM:-0400
TZOFFSETTO:-0500
TZNAME:EST
DTSTART:20251102T060000
END:STANDARD
BEGIN:DAYLIGHT
TZOFFSETFROM:-0500
TZOFFSETTO:-0400
TZNAME:EDT
DTSTART:20260308T070000
END:DAYLIGHT
BEGIN:STANDARD
TZOFFSETFROM:-0400
TZOFFSETTO:-0500
TZNAME:EST
DTSTART:20261101T060000
END:STANDARD
BEGIN:DAYLIGHT
TZOFFSETFROM:-0500
TZOFFSETTO:-0400
TZNAME:EDT
DTSTART:20270314T070000
END:DAYLIGHT
BEGIN:STANDARD
TZOFFSETFROM:-0400
TZOFFSETTO:-0500
TZNAME:EST
DTSTART:20271107T060000
END:STANDARD
END:VTIMEZONE
BEGIN:VEVENT
DTSTART;TZID=America/Toronto:20260109T180000
DTEND;TZID=America/Toronto:20260109T220000
DTSTAMP:20260423T192345
CREATED:20251120T164815Z
LAST-MODIFIED:20260226T134658Z
UID:10003202-1767981600-1767996000@membership.ontariosoilcrop.org
SUMMARY:Durham Soil and Crop Improvement Association Annual General Meeting
DESCRIPTION:Come join the Durham Soil and Crop Improvement Association for our AGM. The evening event will include dinner\, exceptional speakers\, and include your annual OSCIA membership. \nFor additional information\, please reach out to Craig Rickard\, 905-431-4484 or scia-durham@ontariosoilcrop.org.
URL:https://membership.ontariosoilcrop.org/event/durham-scia-agm-2/
LOCATION:Blackstock Community Centre\, Blackstock\, ON\, Canada
CATEGORIES:Association,Durham,Event,Local Event
ATTACH;FMTTYPE=image/jpeg:https://membership.ontariosoilcrop.org/wp-content/uploads/2025/11/SoilandCrop.jpg
GEO:44.1095248;-78.8217243
END:VEVENT
END:VCALENDAR