BEGIN:VCALENDAR
VERSION:2.0
PRODID:-//OSCIA - ECPv6.15.17.1//NONSGML v1.0//EN
CALSCALE:GREGORIAN
METHOD:PUBLISH
X-ORIGINAL-URL:https://membership.ontariosoilcrop.org
X-WR-CALDESC:Events for OSCIA
REFRESH-INTERVAL;VALUE=DURATION:PT1H
X-Robots-Tag:noindex
X-PUBLISHED-TTL:PT1H
BEGIN:VTIMEZONE
TZID:America/Toronto
BEGIN:DAYLIGHT
TZOFFSETFROM:-0500
TZOFFSETTO:-0400
TZNAME:EDT
DTSTART:20250309T070000
END:DAYLIGHT
BEGIN:STANDARD
TZOFFSETFROM:-0400
TZOFFSETTO:-0500
TZNAME:EST
DTSTART:20251102T060000
END:STANDARD
BEGIN:DAYLIGHT
TZOFFSETFROM:-0500
TZOFFSETTO:-0400
TZNAME:EDT
DTSTART:20260308T070000
END:DAYLIGHT
BEGIN:STANDARD
TZOFFSETFROM:-0400
TZOFFSETTO:-0500
TZNAME:EST
DTSTART:20261101T060000
END:STANDARD
BEGIN:DAYLIGHT
TZOFFSETFROM:-0500
TZOFFSETTO:-0400
TZNAME:EDT
DTSTART:20270314T070000
END:DAYLIGHT
BEGIN:STANDARD
TZOFFSETFROM:-0400
TZOFFSETTO:-0500
TZNAME:EST
DTSTART:20271107T060000
END:STANDARD
END:VTIMEZONE
BEGIN:VEVENT
DTSTART;TZID=America/Toronto:20260306T100000
DTEND;TZID=America/Toronto:20260306T150000
DTSTAMP:20260423T012636
CREATED:20260123T012747Z
LAST-MODIFIED:20260123T012747Z
UID:10003251-1772791200-1772809200@membership.ontariosoilcrop.org
SUMMARY:Dundas SCIA: Seed\, Forage and Agriculture Show 2026
DESCRIPTION:Dundas Soil and Crop Improvement Association would like to invite you to our annual Seed\, Forage\, and Agriculture Show on Friday\, March 6th\, 2026 at the Chesterville Legion. Please see the attachments below for more information.  We hope to see you there!
URL:https://membership.ontariosoilcrop.org/event/dundas-scia-seed-forage-and-agriculture-show-2026/
LOCATION:Chesterville Legion\, 167 Queen St West NULL\, Chesterville\, 9\, Canada
CATEGORIES:Dundas
ATTACH;FMTTYPE=image/png:https://membership.ontariosoilcrop.org/wp-content/uploads/2026/01/Seed-Show-Poster-2026.png
END:VEVENT
BEGIN:VEVENT
DTSTART;TZID=America/Toronto:20260325T093000
DTEND;TZID=America/Toronto:20260325T150000
DTSTAMP:20260423T012636
CREATED:20260319T224647Z
LAST-MODIFIED:20260319T224647Z
UID:10003304-1774431000-1774450800@membership.ontariosoilcrop.org
SUMMARY:DSCIA Spring Update Meeting
DESCRIPTION:DSCIA would like to invite you to our Annual Spring Update Meeting to be held on Wednesday\, March 25 at 9:30am at the Chesterville Legion. Please see the attached agenda.
URL:https://membership.ontariosoilcrop.org/event/dscia-spring-update-meeting/
LOCATION:Chesterville Legion\, 167 Queen St West NULL\, Chesterville\, 9\, Canada
CATEGORIES:Dundas
ATTACH;FMTTYPE=image/png:https://membership.ontariosoilcrop.org/wp-content/uploads/2026/03/Spring-Update-Meeting-2026.png
END:VEVENT
END:VCALENDAR