BEGIN:VCALENDAR
VERSION:2.0
PRODID:-//OSCIA - ECPv6.15.17.1//NONSGML v1.0//EN
CALSCALE:GREGORIAN
METHOD:PUBLISH
X-ORIGINAL-URL:https://membership.ontariosoilcrop.org
X-WR-CALDESC:Events for OSCIA
REFRESH-INTERVAL;VALUE=DURATION:PT1H
X-Robots-Tag:noindex
X-PUBLISHED-TTL:PT1H
BEGIN:VTIMEZONE
TZID:America/Toronto
BEGIN:DAYLIGHT
TZOFFSETFROM:-0500
TZOFFSETTO:-0400
TZNAME:EDT
DTSTART:20240310T070000
END:DAYLIGHT
BEGIN:STANDARD
TZOFFSETFROM:-0400
TZOFFSETTO:-0500
TZNAME:EST
DTSTART:20241103T060000
END:STANDARD
BEGIN:DAYLIGHT
TZOFFSETFROM:-0500
TZOFFSETTO:-0400
TZNAME:EDT
DTSTART:20250309T070000
END:DAYLIGHT
BEGIN:STANDARD
TZOFFSETFROM:-0400
TZOFFSETTO:-0500
TZNAME:EST
DTSTART:20251102T060000
END:STANDARD
BEGIN:DAYLIGHT
TZOFFSETFROM:-0500
TZOFFSETTO:-0400
TZNAME:EDT
DTSTART:20260308T070000
END:DAYLIGHT
BEGIN:STANDARD
TZOFFSETFROM:-0400
TZOFFSETTO:-0500
TZNAME:EST
DTSTART:20261101T060000
END:STANDARD
END:VTIMEZONE
BEGIN:VEVENT
DTSTART;TZID=America/Toronto:20251209T093000
DTEND;TZID=America/Toronto:20251209T150000
DTSTAMP:20260423T031108
CREATED:20251122T163557Z
LAST-MODIFIED:20251122T163557Z
UID:10003204-1765272600-1765292400@membership.ontariosoilcrop.org
SUMMARY:Dundas SCIA AGM
DESCRIPTION:On behalf of DSCIA\, I would like to invite you all to attend the 2025 DSCIA AGM on Tuesday\, December 9th\, at the Chesterville Legion\, starting at 9:45 am.\n\nOnce again\, we will have a schedule filled with excellent speakers\, project results\, have an excellent dinner\, award various members for their efforts this year\, and of course have our official annual general meeting.  The schedule is attached.\n\nLunch is $25 per person.\n\nI have also attached the 2026 membership renewal form. We do accept e-transfers to this email address or you are welcome to renew online at ontariosoilcrop.org.\n\nPlease RSVP by Dec. 5th.\n\nWe hope to see you there!
URL:https://membership.ontariosoilcrop.org/event/dundas-scia-agm/
LOCATION:Chesterville Legion\, 167 Queen St West NULL\, Chesterville\, 9\, Canada
CATEGORIES:Dundas
ATTACH;FMTTYPE=image/jpeg:https://membership.ontariosoilcrop.org/wp-content/uploads/2025/11/Annual-Meeting-Mailout-2025_page-0001.jpg
END:VEVENT
END:VCALENDAR