BEGIN:VCALENDAR
VERSION:2.0
PRODID:-//OSCIA - ECPv6.15.17.1//NONSGML v1.0//EN
CALSCALE:GREGORIAN
METHOD:PUBLISH
X-WR-CALNAME:OSCIA
X-ORIGINAL-URL:https://membership.ontariosoilcrop.org
X-WR-CALDESC:Events for OSCIA
REFRESH-INTERVAL;VALUE=DURATION:PT1H
X-Robots-Tag:noindex
X-PUBLISHED-TTL:PT1H
BEGIN:VTIMEZONE
TZID:America/Toronto
BEGIN:DAYLIGHT
TZOFFSETFROM:-0500
TZOFFSETTO:-0400
TZNAME:EDT
DTSTART:20250309T070000
END:DAYLIGHT
BEGIN:STANDARD
TZOFFSETFROM:-0400
TZOFFSETTO:-0500
TZNAME:EST
DTSTART:20251102T060000
END:STANDARD
BEGIN:DAYLIGHT
TZOFFSETFROM:-0500
TZOFFSETTO:-0400
TZNAME:EDT
DTSTART:20260308T070000
END:DAYLIGHT
BEGIN:STANDARD
TZOFFSETFROM:-0400
TZOFFSETTO:-0500
TZNAME:EST
DTSTART:20261101T060000
END:STANDARD
BEGIN:DAYLIGHT
TZOFFSETFROM:-0500
TZOFFSETTO:-0400
TZNAME:EDT
DTSTART:20270314T070000
END:DAYLIGHT
BEGIN:STANDARD
TZOFFSETFROM:-0400
TZOFFSETTO:-0500
TZNAME:EST
DTSTART:20271107T060000
END:STANDARD
END:VTIMEZONE
BEGIN:VEVENT
DTSTART;TZID=America/Toronto:20260108T083000
DTEND;TZID=America/Toronto:20260108T083000
DTSTAMP:20260420T073047
CREATED:20251023T141011Z
LAST-MODIFIED:20251222T155443Z
UID:10003162-1767861000-1767861000@membership.ontariosoilcrop.org
SUMMARY:Essex SCIA 2026 Annual General Meeting
DESCRIPTION:Date: Thursday\, January 8th\, 2026 \nTime: 8:30am \nLocation: Essex Centre Sports Complex \nRegister by January 6th to scia-essex@ontariosoilcrop.org or 519-564-5387 \n 
URL:https://membership.ontariosoilcrop.org/event/essex-scia-2026-annual-general-meeting/
LOCATION:Essex Centre Sports Complex\, 60 Fairview Avenue West\, Essex\, ON\, N8M 1X4\, Canada
CATEGORIES:AGM,AGM,Association,Conference,Essex,Event,General Interest,Local Event,Provincial,Regional Event,St. Clair
END:VEVENT
BEGIN:VEVENT
DTSTART;TZID=America/Toronto:20260116T083000
DTEND;TZID=America/Toronto:20260116T160000
DTSTAMP:20260420T073047
CREATED:20251103T183445Z
LAST-MODIFIED:20251103T194747Z
UID:10003176-1768552200-1768579200@membership.ontariosoilcrop.org
SUMMARY:2026 Midwest Ag Conference
DESCRIPTION:SAVE THE DATE! \nThe 2026 Midwest Ag Conference is in Waterloo-Heartland. \n\nFocus on understanding when\, where and how precision agronomy brings value\, from starting to validating the results for on-farm improvements\n\n\n\nThe MidWest Agricultural Conference is a cooperative effort between Golden Horseshoe and Heartland Soil & Crop Improvement Assocations and the Ontario Ministry of Agriculture\, Food and Agribusiness. This is the premiere field crop conference in Midwestern Ontario. The program is designed to provide growers and agribusiness personnel with the latest in-depth crop management information. Certified Crop Advisor credits are available for most sessions. Learn more about the Conference. \nRegistration Now Open: Buy Tickets! 
URL:https://membership.ontariosoilcrop.org/event/midwest-ag-conference-2/
LOCATION:RIM Park Manulife Sportsplex\, 2001 University Ave. E.\, Waterloo\, Ontario\, Canada
CATEGORIES:Conference,Event,General Interest,Golden Horseshoe,Heartland,Local Event,Provincial,Regional Event,Waterloo
END:VEVENT
END:VCALENDAR