BEGIN:VCALENDAR
VERSION:2.0
PRODID:-//OSCIA - ECPv6.15.17.1//NONSGML v1.0//EN
CALSCALE:GREGORIAN
METHOD:PUBLISH
X-WR-CALNAME:OSCIA
X-ORIGINAL-URL:https://membership.ontariosoilcrop.org
X-WR-CALDESC:Events for OSCIA
REFRESH-INTERVAL;VALUE=DURATION:PT1H
X-Robots-Tag:noindex
X-PUBLISHED-TTL:PT1H
BEGIN:VTIMEZONE
TZID:America/Toronto
BEGIN:DAYLIGHT
TZOFFSETFROM:-0500
TZOFFSETTO:-0400
TZNAME:EDT
DTSTART:20250309T070000
END:DAYLIGHT
BEGIN:STANDARD
TZOFFSETFROM:-0400
TZOFFSETTO:-0500
TZNAME:EST
DTSTART:20251102T060000
END:STANDARD
BEGIN:DAYLIGHT
TZOFFSETFROM:-0500
TZOFFSETTO:-0400
TZNAME:EDT
DTSTART:20260308T070000
END:DAYLIGHT
BEGIN:STANDARD
TZOFFSETFROM:-0400
TZOFFSETTO:-0500
TZNAME:EST
DTSTART:20261101T060000
END:STANDARD
BEGIN:DAYLIGHT
TZOFFSETFROM:-0500
TZOFFSETTO:-0400
TZNAME:EDT
DTSTART:20270314T070000
END:DAYLIGHT
BEGIN:STANDARD
TZOFFSETFROM:-0400
TZOFFSETTO:-0500
TZNAME:EST
DTSTART:20271107T060000
END:STANDARD
END:VTIMEZONE
BEGIN:VEVENT
DTSTART;VALUE=DATE:20260324
DTEND;VALUE=DATE:20260327
DTSTAMP:20260420T071801
CREATED:20260130T131751Z
LAST-MODIFIED:20260323T162341Z
UID:10003268-1774310400-1774569599@membership.ontariosoilcrop.org
SUMMARY:Thunder Bay SCIA Spring Farm Conference
DESCRIPTION:Join us at the Thunder Bay Spring Farm Conference\nDate: March 24-26\, 2026 \nLocation: Fort William Historical Park\, 1350 King Road\, Thunder Bay \n\nOver 30 exhibitors\nTwo full days of speakers\nBeef-focused night\n\n*This event is an OSCIA-recognized Knowledge Sharing Event (KSE) for farmers with On-Farm Climate Action Fund (OFCAF) projects in the  Nitrogen Management and Rotational Grazing Categories
URL:https://membership.ontariosoilcrop.org/event/thunder-bay-spring-farm-conference/
LOCATION:Fort William Historical Park
CATEGORIES:Conference,Event,KSE,Local Event,Nitrogen Management,North Western Ontario,Provincial,Regional Event,Rotational Grazing Systems,Thunder Bay
END:VEVENT
BEGIN:VEVENT
DTSTART;TZID=America/Toronto:20260324T100000
DTEND;TZID=America/Toronto:20260324T150000
DTSTAMP:20260420T071801
CREATED:20260127T155304Z
LAST-MODIFIED:20260127T155304Z
UID:10003264-1774346400-1774364400@membership.ontariosoilcrop.org
SUMMARY:Economics of Feeding Beef Calves
DESCRIPTION:Explore effective methods for calculating and monitoring the costs associated with feeding beef calves\, including calf purchases\, feed expenses and overhead costs. This workshop will be led by Steve Duff\, John Molenhuis and James Byrne of OMAFA. Attend in-person at Grey Ag Services in Markdale\, cost is $40.00 per person\, including lunch. Email info@greyagservices.ca or go to www.greyagservices.ca to register.
URL:https://membership.ontariosoilcrop.org/event/economics-of-feeding-beef-calves/
LOCATION:Grey Ag Services\, 206 Toronto St S\, Markdale\, Ontario\, N0C 1H0\, Canada
CATEGORIES:Georgian Central
ATTACH;FMTTYPE=image/png:https://membership.ontariosoilcrop.org/wp-content/uploads/2026/01/Economics-of-Feeding-Calves-500-x-375-px-1.png
GEO:44.3139564;-80.6402928
X-APPLE-STRUCTURED-LOCATION;VALUE=URI;X-ADDRESS=Grey Ag Services 206 Toronto St S Markdale Ontario N0C 1H0 Canada;X-APPLE-RADIUS=500;X-TITLE=206 Toronto St S:geo:-80.6402928,44.3139564
END:VEVENT
BEGIN:VEVENT
DTSTART;TZID=America/Toronto:20260324T183000
DTEND;TZID=America/Toronto:20260324T200000
DTSTAMP:20260420T071801
CREATED:20260227T154643Z
LAST-MODIFIED:20260227T170231Z
UID:10003293-1774377000-1774382400@membership.ontariosoilcrop.org
SUMMARY:Restoring Soils Using Annuals with Clayton Robins
DESCRIPTION:Grazing Management Strategies- Brussels Agri Services Ltd. \nRestoring Soils Using Annuals – Featuring Guest Speaker: CLAYTON ROBINS \nTUESDAY\, MARCH 24\, 2026\n6:30 PM Pie\, Coffee & Trade Show\nLearning Session\nSpecial gift for those in attendance by 6:45 PM\nRSVP BY MARCH 20\, 2026\nmelissa@brusselsagri.com | 1-877-887-9391 \nGrazingManagement-Handout-2026-Final (3) \n*this event is recognized as OSCIA OFCAF KSE under BMP category Rotational Grazing \n  \n 
URL:https://membership.ontariosoilcrop.org/event/restoring-soils-using-annuals-with-clayton-robins/
LOCATION:BMG Community Centre\, 800 Sports Drive\, Brussels\, Ontario\, Canada
CATEGORIES:Event,KSE,Rotational Grazing Systems
ORGANIZER;CN="Brussels Agri Services Ltd.":MAILTO:tim@brusselsagri.com
END:VEVENT
END:VCALENDAR