BEGIN:VCALENDAR
VERSION:2.0
PRODID:-//OSCIA - ECPv6.15.17.1//NONSGML v1.0//EN
CALSCALE:GREGORIAN
METHOD:PUBLISH
X-WR-CALNAME:OSCIA
X-ORIGINAL-URL:https://membership.ontariosoilcrop.org
X-WR-CALDESC:Events for OSCIA
REFRESH-INTERVAL;VALUE=DURATION:PT1H
X-Robots-Tag:noindex
X-PUBLISHED-TTL:PT1H
BEGIN:VTIMEZONE
TZID:America/Toronto
BEGIN:DAYLIGHT
TZOFFSETFROM:-0500
TZOFFSETTO:-0400
TZNAME:EDT
DTSTART:20250309T070000
END:DAYLIGHT
BEGIN:STANDARD
TZOFFSETFROM:-0400
TZOFFSETTO:-0500
TZNAME:EST
DTSTART:20251102T060000
END:STANDARD
BEGIN:DAYLIGHT
TZOFFSETFROM:-0500
TZOFFSETTO:-0400
TZNAME:EDT
DTSTART:20260308T070000
END:DAYLIGHT
BEGIN:STANDARD
TZOFFSETFROM:-0400
TZOFFSETTO:-0500
TZNAME:EST
DTSTART:20261101T060000
END:STANDARD
BEGIN:DAYLIGHT
TZOFFSETFROM:-0500
TZOFFSETTO:-0400
TZNAME:EDT
DTSTART:20270314T070000
END:DAYLIGHT
BEGIN:STANDARD
TZOFFSETFROM:-0400
TZOFFSETTO:-0500
TZNAME:EST
DTSTART:20271107T060000
END:STANDARD
END:VTIMEZONE
BEGIN:VEVENT
DTSTART;TZID=America/Toronto:20260319T183000
DTEND;TZID=America/Toronto:20260319T194500
DTSTAMP:20260420T071754
CREATED:20260309T170343Z
LAST-MODIFIED:20260313T151142Z
UID:10003299-1773945000-1773949500@membership.ontariosoilcrop.org
SUMMARY:Creativity in Cover Crops (Virtual)
DESCRIPTION:Thursday March 19 @ 6:30 pm – 7:45 pm     Venue: Online\n\nMany farmers are working to diversify their crop rotations for the health of their soil. If you’re aiming to stack benefits and hopefully provide more ecological and economic gain for your farm\, it may require some innovation. In this session you’ll hear from farmers and researchers about unique aspects of their work that incorporate cover crops using a variety of techniques. \nJulianna Tindall is a Master’s student at the University of Guelph working under Dr. Kim Schneider in the Forage and Service Crops Lab. \nTom Barrie of Terwidlen Farms in Bowmanville is a long-time soil health champion\, using no-till methods long before they were mainstream\, and growing clover for forage and seed for 50+ years. \nJess Pfisterer focusses on forage seed\, field crops and land-based partnerships at Pfisterer Ag in Kenilworth. \nJoin to learn more about creative ways to bring cover crops into your operation. For more information and to register\, CLICK HERE. \n*This event is recognized as OSCIA OFCAF KSE under BMP category Cover Cropping
URL:https://membership.ontariosoilcrop.org/event/creativity-in-cover-crops-virtual/
LOCATION:Online
CATEGORIES:Cover Cropping,Event,KSE
ORGANIZER;CN="Ecological Farmers Association of Ontario (EFAO)":MAILTO:info@efao.ca
END:VEVENT
END:VCALENDAR