BEGIN:VCALENDAR
VERSION:2.0
PRODID:-//OSCIA - ECPv6.15.17.1//NONSGML v1.0//EN
CALSCALE:GREGORIAN
METHOD:PUBLISH
X-ORIGINAL-URL:https://membership.ontariosoilcrop.org
X-WR-CALDESC:Events for OSCIA
REFRESH-INTERVAL;VALUE=DURATION:PT1H
X-Robots-Tag:noindex
X-PUBLISHED-TTL:PT1H
BEGIN:VTIMEZONE
TZID:America/Toronto
BEGIN:DAYLIGHT
TZOFFSETFROM:-0500
TZOFFSETTO:-0400
TZNAME:EDT
DTSTART:20250309T070000
END:DAYLIGHT
BEGIN:STANDARD
TZOFFSETFROM:-0400
TZOFFSETTO:-0500
TZNAME:EST
DTSTART:20251102T060000
END:STANDARD
BEGIN:DAYLIGHT
TZOFFSETFROM:-0500
TZOFFSETTO:-0400
TZNAME:EDT
DTSTART:20260308T070000
END:DAYLIGHT
BEGIN:STANDARD
TZOFFSETFROM:-0400
TZOFFSETTO:-0500
TZNAME:EST
DTSTART:20261101T060000
END:STANDARD
BEGIN:DAYLIGHT
TZOFFSETFROM:-0500
TZOFFSETTO:-0400
TZNAME:EDT
DTSTART:20270314T070000
END:DAYLIGHT
BEGIN:STANDARD
TZOFFSETFROM:-0400
TZOFFSETTO:-0500
TZNAME:EST
DTSTART:20271107T060000
END:STANDARD
END:VTIMEZONE
BEGIN:VEVENT
DTSTART;TZID=America/Toronto:20260316T140000
DTEND;TZID=America/Toronto:20260316T150000
DTSTAMP:20260420T055413
CREATED:20260212T142152Z
LAST-MODIFIED:20260304T155947Z
UID:10003278-1773669600-1773673200@membership.ontariosoilcrop.org
SUMMARY:March Manure Mondays 2026 - Pit to Profit (Virtual)
DESCRIPTION:Register with link  or call 1-877-424-1300 \nMarch 16 -Pit to Profit –Rudi Spruit\, Ryan Brossand Ken Empeyshare their approach to integrated manure management that includes sand separation\, solids separation\, bedding alternatives and liquid irrigation. \nMarch Manure Mondays 2026 Poster \n*this event is recognized as OSCIA OFCAF KSE under BMP category Nitrogen Management
URL:https://membership.ontariosoilcrop.org/event/march-manure-mondays-2026-pit-to-profit-virtual/
LOCATION:..
CATEGORIES:KSE,Nitrogen Management
END:VEVENT
END:VCALENDAR