BEGIN:VCALENDAR
VERSION:2.0
PRODID:-//OSCIA - ECPv6.15.17.1//NONSGML v1.0//EN
CALSCALE:GREGORIAN
METHOD:PUBLISH
X-ORIGINAL-URL:https://membership.ontariosoilcrop.org
X-WR-CALDESC:Events for OSCIA
REFRESH-INTERVAL;VALUE=DURATION:PT1H
X-Robots-Tag:noindex
X-PUBLISHED-TTL:PT1H
BEGIN:VTIMEZONE
TZID:America/Toronto
BEGIN:DAYLIGHT
TZOFFSETFROM:-0500
TZOFFSETTO:-0400
TZNAME:EDT
DTSTART:20250309T070000
END:DAYLIGHT
BEGIN:STANDARD
TZOFFSETFROM:-0400
TZOFFSETTO:-0500
TZNAME:EST
DTSTART:20251102T060000
END:STANDARD
BEGIN:DAYLIGHT
TZOFFSETFROM:-0500
TZOFFSETTO:-0400
TZNAME:EDT
DTSTART:20260308T070000
END:DAYLIGHT
BEGIN:STANDARD
TZOFFSETFROM:-0400
TZOFFSETTO:-0500
TZNAME:EST
DTSTART:20261101T060000
END:STANDARD
BEGIN:DAYLIGHT
TZOFFSETFROM:-0500
TZOFFSETTO:-0400
TZNAME:EDT
DTSTART:20270314T070000
END:DAYLIGHT
BEGIN:STANDARD
TZOFFSETFROM:-0400
TZOFFSETTO:-0500
TZNAME:EST
DTSTART:20271107T060000
END:STANDARD
END:VTIMEZONE
BEGIN:VEVENT
DTSTART;TZID=America/Toronto:20260302T140000
DTEND;TZID=America/Toronto:20260302T150000
DTSTAMP:20260420T071105
CREATED:20260211T214104Z
LAST-MODIFIED:20260213T143539Z
UID:10003276-1772460000-1772463600@membership.ontariosoilcrop.org
SUMMARY:March Manure Mondays 2026 - Moving Manure Further (Virtual)
DESCRIPTION:Register with link  or call 1-877-424-1300 \nMarch 2 -Moving Manure Further –The benefits and challenges to moving manure to fields further from the storage using satellite storages\, frac tanks\, pipelines and other strategies. Join panelists Glen Arnold OSU\, Sean Barnes Eusifarms\, Gerard Steinbeek\, StonecreekFarmsand Martin Roelands (OPACA) \nMarch Manure Mondays 2026 Poster \n*this event is recognized as OSCIA OFCAF KSE under BMP category Nitrogen Management
URL:https://membership.ontariosoilcrop.org/event/march-manure-mondays-2026-moving-manure-further-virtual/
LOCATION:Webinar\, ONLINE\, Webinar\, ONLINE\, Canada
CATEGORIES:Event,KSE,Nitrogen Management
GEO:51.253775;-85.3232139
X-APPLE-STRUCTURED-LOCATION;VALUE=URI;X-ADDRESS=Webinar ONLINE Webinar ONLINE Canada;X-APPLE-RADIUS=500;X-TITLE=ONLINE:geo:-85.3232139,51.253775
END:VEVENT
END:VCALENDAR