BEGIN:VCALENDAR
VERSION:2.0
PRODID:-//OSCIA - ECPv6.15.17.1//NONSGML v1.0//EN
CALSCALE:GREGORIAN
METHOD:PUBLISH
X-WR-CALNAME:OSCIA
X-ORIGINAL-URL:https://membership.ontariosoilcrop.org
X-WR-CALDESC:Events for OSCIA
REFRESH-INTERVAL;VALUE=DURATION:PT1H
X-Robots-Tag:noindex
X-PUBLISHED-TTL:PT1H
BEGIN:VTIMEZONE
TZID:America/Toronto
BEGIN:DAYLIGHT
TZOFFSETFROM:-0500
TZOFFSETTO:-0400
TZNAME:EDT
DTSTART:20250309T070000
END:DAYLIGHT
BEGIN:STANDARD
TZOFFSETFROM:-0400
TZOFFSETTO:-0500
TZNAME:EST
DTSTART:20251102T060000
END:STANDARD
BEGIN:DAYLIGHT
TZOFFSETFROM:-0500
TZOFFSETTO:-0400
TZNAME:EDT
DTSTART:20260308T070000
END:DAYLIGHT
BEGIN:STANDARD
TZOFFSETFROM:-0400
TZOFFSETTO:-0500
TZNAME:EST
DTSTART:20261101T060000
END:STANDARD
BEGIN:DAYLIGHT
TZOFFSETFROM:-0500
TZOFFSETTO:-0400
TZNAME:EDT
DTSTART:20270314T070000
END:DAYLIGHT
BEGIN:STANDARD
TZOFFSETFROM:-0400
TZOFFSETTO:-0500
TZNAME:EST
DTSTART:20271107T060000
END:STANDARD
END:VTIMEZONE
BEGIN:VEVENT
DTSTART;TZID=America/Toronto:20260210T090000
DTEND;TZID=America/Toronto:20260210T123000
DTSTAMP:20260423T091358
CREATED:20260123T143645Z
LAST-MODIFIED:20260130T150944Z
UID:10003252-1770714000-1770726600@membership.ontariosoilcrop.org
SUMMARY:2026 ONFARM Applied Research Forum
DESCRIPTION:Join us virtually on February 10\, 2026 between 9am-12:30pm\nfor our Annual ONFARM Applied Research Forum!\nSince 2019\, the ONFARM program has completed extensive soil health and water quality analysis on farms across Ontario to build a stronger understanding of best management practices (BMPs) and their effect on soil health and water quality. \nWe have planned a terrific line-up for this year’s Forum!\nRegister via ZOOM here \nDuring the Forum\, we will explore: \n\nAgricultural runoff and nutrient transport\nResearch and Management Strategies to limit runoff nutrient losses\nTaking the 4R Nutrient Approach\nQuantifying Soil Health Changes: Challenges and Successes\n\nOptimizing Nutrient Application Rates with SWAT Maps and exploring the new SWAT Water Tool \nRegister via ZOOM here \n\n2026 ONFARM Applied Research Forum is an OSCIA-recognized Knowledge Sharing Event (KSE) for farmers with On-Farm Climate Action Fund (OFCAF) projects in the Nitrogen Management category. 
URL:https://membership.ontariosoilcrop.org/event/2026-onfarm-applied-research-forum/
LOCATION:Online
CATEGORIES:Algoma,ÉPC,Event,Gestion de l’azote,KSE,Local Event,Nitrogen Management,Provincial
ATTACH;FMTTYPE=image/png:https://membership.ontariosoilcrop.org/wp-content/uploads/2026/01/2026_ONFARM-Forum-graphic_REV-2.png
END:VEVENT
BEGIN:VEVENT
DTSTART;TZID=America/Toronto:20260210T150000
DTEND;TZID=America/Toronto:20260210T170000
DTSTAMP:20260423T091358
CREATED:20260114T144221Z
LAST-MODIFIED:20260114T144221Z
UID:10003240-1770735600-1770742800@membership.ontariosoilcrop.org
SUMMARY:Webinar: Cover Crops and Green Manures
DESCRIPTION:What is cover cropping and green manure? This webinar by Ecological Farmers Association of Ontario (EFAO) will answer these questions and discuss why they’re used in crop rotations. Learn how this practice can help increase soil health\, crop health\, and soil water retention. Hear from a market gardener how they have used cover crops in their vegetable crop rotation. \n \n  \nSpeakers: Stephanie Vickers\, Horticulture Sustainability Specialist\, Ontario Ministry of Agriculture\, Food and Agribusiness & Martina Schaefer from Spiral Farm \nWhen? Tuesday\, Feb 10 @ 3:00 pm -5:00 pm \nREGISTER HERE \n  \nCover Crops and Green Manures is an OSCIA-recognized Knowledge Sharing Event (KSE) for farmers with On-Farm Climate Action Fund (OFCAF) projects in the Cover Cropping category. 
URL:https://membership.ontariosoilcrop.org/event/webinar-cover-crops-and-green-manures/
LOCATION:9
CATEGORIES:Cover Cropping,ÉPC,KSE,Recours aux cultures de couverturev
ORGANIZER;CN="Ecological Farmers Association of Ontario (EFAO)":MAILTO:info@efao.ca
END:VEVENT
BEGIN:VEVENT
DTSTART;TZID=America/Toronto:20260210T190000
DTEND;TZID=America/Toronto:20260210T210000
DTSTAMP:20260423T091358
CREATED:20260127T152454Z
LAST-MODIFIED:20260127T155134Z
UID:10003253-1770750000-1770757200@membership.ontariosoilcrop.org
SUMMARY:Scamdemic: Fighting Fraud in a Digital World
DESCRIPTION:Kody Lyons\, Community Engagement Officer with the OPP will present this workshop. The presentation will touch on CRA Scam\, Romance Scam\, Internet Safety (social media\, passwords)\, Grandparent Scam and will briefly talk about AI. Attend in-person at Grey Ag Services in Markdale\, cost is $20.00 per person. Email info@greyagservices.ca or go to www.greyagservices.ca to register.
URL:https://membership.ontariosoilcrop.org/event/scamdemic-fighting-fraud-in-a-digital-world/
LOCATION:Grey Ag Services\, 206 Toronto St S\, Markdale\, Ontario\, N0C 1H0\, Canada
CATEGORIES:Georgian Central
ATTACH;FMTTYPE=image/png:https://membership.ontariosoilcrop.org/wp-content/uploads/2026/01/Scamdemic-500-x-375-px-1.png
GEO:44.3139564;-80.6402928
X-APPLE-STRUCTURED-LOCATION;VALUE=URI;X-ADDRESS=Grey Ag Services 206 Toronto St S Markdale Ontario N0C 1H0 Canada;X-APPLE-RADIUS=500;X-TITLE=206 Toronto St S:geo:-80.6402928,44.3139564
END:VEVENT
END:VCALENDAR