BEGIN:VCALENDAR
VERSION:2.0
PRODID:-//OSCIA - ECPv6.15.17.1//NONSGML v1.0//EN
CALSCALE:GREGORIAN
METHOD:PUBLISH
X-WR-CALNAME:OSCIA
X-ORIGINAL-URL:https://membership.ontariosoilcrop.org
X-WR-CALDESC:Events for OSCIA
REFRESH-INTERVAL;VALUE=DURATION:PT1H
X-Robots-Tag:noindex
X-PUBLISHED-TTL:PT1H
BEGIN:VTIMEZONE
TZID:America/Toronto
BEGIN:DAYLIGHT
TZOFFSETFROM:-0500
TZOFFSETTO:-0400
TZNAME:EDT
DTSTART:20250309T070000
END:DAYLIGHT
BEGIN:STANDARD
TZOFFSETFROM:-0400
TZOFFSETTO:-0500
TZNAME:EST
DTSTART:20251102T060000
END:STANDARD
BEGIN:DAYLIGHT
TZOFFSETFROM:-0500
TZOFFSETTO:-0400
TZNAME:EDT
DTSTART:20260308T070000
END:DAYLIGHT
BEGIN:STANDARD
TZOFFSETFROM:-0400
TZOFFSETTO:-0500
TZNAME:EST
DTSTART:20261101T060000
END:STANDARD
BEGIN:DAYLIGHT
TZOFFSETFROM:-0500
TZOFFSETTO:-0400
TZNAME:EDT
DTSTART:20270314T070000
END:DAYLIGHT
BEGIN:STANDARD
TZOFFSETFROM:-0400
TZOFFSETTO:-0500
TZNAME:EST
DTSTART:20271107T060000
END:STANDARD
END:VTIMEZONE
BEGIN:VEVENT
DTSTART;TZID=America/Toronto:20260205T090000
DTEND;TZID=America/Toronto:20260205T150000
DTSTAMP:20260420T070930
CREATED:20260110T203433Z
LAST-MODIFIED:20260112T201231Z
UID:10003234-1770282000-1770303600@membership.ontariosoilcrop.org
SUMMARY:Prince Edward SCIA AGM
DESCRIPTION:Speakers\n\nDave Gillespie — Soil & Crop Data to Drive Cropping Decisions\nPeter Johnson — Looking Back\, Planning Ahead\n\nCost\n\nActive or renewing Prince Edward County SCIA members: Free\nOther SCIA members and non-members: Lunch $20\n\nRSVP\nPlease RSVP by January 29\, 2026. \nContact:\n\nTyler Lester — 613-921-0433\nPatti Stacey — 613-919-5154
URL:https://membership.ontariosoilcrop.org/event/prince-edward-scia-agm-2/
LOCATION:Bloomfield United Church Hall\, 272 Main Street NULL\, Bloomfield\, K0K1G0\, 9
CATEGORIES:Prince Edward,Quinte
ATTACH;FMTTYPE=image/jpeg:https://membership.ontariosoilcrop.org/wp-content/uploads/2026/01/2026-PECSIA-AGM-Flyer-2.jpg
GEO:NULL;NULL
X-APPLE-STRUCTURED-LOCATION;VALUE=URI;X-ADDRESS=Bloomfield United Church Hall 272 Main Street NULL Bloomfield K0K1G0 9;X-APPLE-RADIUS=500;X-TITLE=272 Main Street NULL:geo:NULL,NULL
END:VEVENT
END:VCALENDAR