BEGIN:VCALENDAR
VERSION:2.0
PRODID:-//OSCIA - ECPv6.15.17.1//NONSGML v1.0//EN
CALSCALE:GREGORIAN
METHOD:PUBLISH
X-ORIGINAL-URL:https://membership.ontariosoilcrop.org
X-WR-CALDESC:Events for OSCIA
REFRESH-INTERVAL;VALUE=DURATION:PT1H
X-Robots-Tag:noindex
X-PUBLISHED-TTL:PT1H
BEGIN:VTIMEZONE
TZID:America/Toronto
BEGIN:DAYLIGHT
TZOFFSETFROM:-0500
TZOFFSETTO:-0400
TZNAME:EDT
DTSTART:20250309T070000
END:DAYLIGHT
BEGIN:STANDARD
TZOFFSETFROM:-0400
TZOFFSETTO:-0500
TZNAME:EST
DTSTART:20251102T060000
END:STANDARD
BEGIN:DAYLIGHT
TZOFFSETFROM:-0500
TZOFFSETTO:-0400
TZNAME:EDT
DTSTART:20260308T070000
END:DAYLIGHT
BEGIN:STANDARD
TZOFFSETFROM:-0400
TZOFFSETTO:-0500
TZNAME:EST
DTSTART:20261101T060000
END:STANDARD
BEGIN:DAYLIGHT
TZOFFSETFROM:-0500
TZOFFSETTO:-0400
TZNAME:EDT
DTSTART:20270314T070000
END:DAYLIGHT
BEGIN:STANDARD
TZOFFSETFROM:-0400
TZOFFSETTO:-0500
TZNAME:EST
DTSTART:20271107T060000
END:STANDARD
END:VTIMEZONE
BEGIN:VEVENT
DTSTART;TZID=America/Toronto:20260202T130000
DTEND;TZID=America/Toronto:20260202T140000
DTSTAMP:20260420T101713
CREATED:20251209T191003Z
LAST-MODIFIED:20251209T191003Z
UID:10003222-1770037200-1770040800@membership.ontariosoilcrop.org
SUMMARY:Webinar: Sowing solutions: Why these cover cropping BMPs? / Solutions d’ensemencement Pourquoi avoir choisi ces PGB s’appliquant aux cultures de couverture?
DESCRIPTION:Join Farmers for Climate Solutions for a 60-minute free webinar where we will dive into the science and benefits of cover cropping. \n\n\n\nHow cover crops sequester carbon (and benefit your farm in other ways too) \nCover crops are helping farms improve soil health\, manage nutrients\, and build resilience\, but what processes are driving these changes in the field? In this webinar\, farmers and researchers will walk through the processes by which cover crops sequester carbon\, what we know about their impact on nitrous oxide emissions\, and how species selection and management decisions shape these outcomes. We’ll also explore the broader on-farm benefits that are motivating adoption across Canada. \n— \nVoici comment les cultures de couverture séquestrent le carbone (et procurent d’autres avantages à votre ferme) \nLes cultures de couverture contribuent à améliorer la santé des sols\, à gérer les nutriments et à renforcer la résilience. Or\, quels sont les processus à l’origine de ces changements dans les champs ? Lors de ce webinaire\, des agriculteur·rice·s et des chercheur·se·s décriront les processus par lesquels les cultures de couverture séquestrent le carbone\, les effets de ces processus sur les émissions d’oxyde nitreux\, ainsi que la manière dont les choix en matière d’espèces végétales et de méthodes de gestion influencent les résultats de ces processus. Ils présenteront également les avantages plus généraux des cultures de couverture pour les fermes\, ces avantages favorisant leur adoption à travers le Canada.\n\n\n\n\n\n\n\n\n\n\n\n\n\nWhen? Monday\, Feb 2 @ 1:00 pm -2:00 pm \n\n\n\n\n\n\n\n\n\n\nREGISTER HERE \nSowing solutions: Why these cover cropping BMPs? is an OSCIA-recognized Knowledge Sharing Event (KSE) for farmers with On-Farm Climate Action Fund (OFCAF) projects in the Cover Cropping category. 
URL:https://membership.ontariosoilcrop.org/event/webinar-sowing-solutions-why-these-cover-cropping-bmps-solutions-densemencement-pourquoi-avoir-choisi-ces-pgb-sappliquant-aux-cultures-de-couverture/
LOCATION:9
CATEGORIES:Cover Cropping,ÉPC,KSE,Recours aux cultures de couverturev
END:VEVENT
BEGIN:VEVENT
DTSTART;TZID=America/Toronto:20260202T200000
DTEND;TZID=America/Toronto:20260202T210000
DTSTAMP:20260420T101713
CREATED:20260202T195244Z
LAST-MODIFIED:20260202T195244Z
UID:10003269-1770062400-1770066000@membership.ontariosoilcrop.org
SUMMARY:The Agronomists: Revving up the forage stand
DESCRIPTION:Join host Lyndsey Smith on The Agronomists and guests Christine O’Reilly and Joanna Follings as they discuss revving up forage stands\, including the use of annual forages for use as a cash crop\, cover crop\, and forage source \nWhen? Monday\, Feb 2 @ 8:00 pm -9:00 pm \nWATCH LIVE HERE \nThe Agronomists: Revving up the forage stand is an OSCIA-recognized Knowledge Sharing Event (KSE) for farmers with On-Farm Climate Action Fund (OFCAF) projects in the Cover Cropping category. 
URL:https://membership.ontariosoilcrop.org/event/the-agronomists-revving-up-the-forage-stand/
LOCATION:9
CATEGORIES:Cover Cropping,ÉPC,KSE,Recours aux cultures de couverturev
END:VEVENT
END:VCALENDAR