BEGIN:VCALENDAR
VERSION:2.0
PRODID:-//OSCIA - ECPv6.15.17.1//NONSGML v1.0//EN
CALSCALE:GREGORIAN
METHOD:PUBLISH
X-ORIGINAL-URL:https://membership.ontariosoilcrop.org
X-WR-CALDESC:Events for OSCIA
REFRESH-INTERVAL;VALUE=DURATION:PT1H
X-Robots-Tag:noindex
X-PUBLISHED-TTL:PT1H
BEGIN:VTIMEZONE
TZID:America/Toronto
BEGIN:DAYLIGHT
TZOFFSETFROM:-0500
TZOFFSETTO:-0400
TZNAME:EDT
DTSTART:20250309T070000
END:DAYLIGHT
BEGIN:STANDARD
TZOFFSETFROM:-0400
TZOFFSETTO:-0500
TZNAME:EST
DTSTART:20251102T060000
END:STANDARD
BEGIN:DAYLIGHT
TZOFFSETFROM:-0500
TZOFFSETTO:-0400
TZNAME:EDT
DTSTART:20260308T070000
END:DAYLIGHT
BEGIN:STANDARD
TZOFFSETFROM:-0400
TZOFFSETTO:-0500
TZNAME:EST
DTSTART:20261101T060000
END:STANDARD
BEGIN:DAYLIGHT
TZOFFSETFROM:-0500
TZOFFSETTO:-0400
TZNAME:EDT
DTSTART:20270314T070000
END:DAYLIGHT
BEGIN:STANDARD
TZOFFSETFROM:-0400
TZOFFSETTO:-0500
TZNAME:EST
DTSTART:20271107T060000
END:STANDARD
END:VTIMEZONE
BEGIN:VEVENT
DTSTART;TZID=America/Toronto:20260128T100000
DTEND;TZID=America/Toronto:20260128T100000
DTSTAMP:20260424T182019
CREATED:20251120T165111Z
LAST-MODIFIED:20251120T183159Z
UID:10003200-1769594400-1769594400@membership.ontariosoilcrop.org
SUMMARY:Victoria SCIA AGM
DESCRIPTION:  \nJoin Victoria SCIA for their AGM on January 28\, starting at 10am in Cambray. \nFor additional information\, please reach out to Adam Bent\, 705-328-1185.
URL:https://membership.ontariosoilcrop.org/event/victoria-scia-agm-4/
LOCATION:Ontario
CATEGORIES:Association,Event,Local Event,Victoria
END:VEVENT
BEGIN:VEVENT
DTSTART;TZID=America/Toronto:20260128T130000
DTEND;TZID=America/Toronto:20260128T140000
DTSTAMP:20260424T182019
CREATED:20260112T210414Z
LAST-MODIFIED:20260112T210414Z
UID:10003236-1769605200-1769608800@membership.ontariosoilcrop.org
SUMMARY:Understanding Urease and Nitrification Inhibitors
DESCRIPTION:The Ontario Certified Crop Advisor Association (CCA) and Ontario Soil and Crop Improvement Association (OSCIA) have partnered to deliver training and educational resources to Ontario agrologists. With a focus on cover crops\, nitrogen management\, and rotational grazing\, these sessions will support the objectives of the On-Farm Climate Action Fund. Check out the full webinar series schedule here. \nJoin us on Wednesday\, January 28 with Dr. John Lauzon to explore how urease and nitrification inhibitors can reduce nitrogen losses in agricultural systems and improve nitrogen use efficiency. Nitrogen is essential for crop growth\, yet a significant portion of applied fertilizer is often lost through ammonia volatilization\, nitrification\, denitrification\, and leaching. These losses reduce crop uptake\, increase production costs\, and contribute to environmental impacts such as nitrous oxide emissions and water contamination. \nFunding for this project has been provided by Agriculture and Agri-Food Canada through the Agricultural Climate Solutions (ACS) – On-Farm Climate Action Fund (OFCAF). \nThis event is free to attend. CEUs 1.0 Nutrient Management available (Pending Approval). This webinar is an OSCIA-recognized Knowledge Sharing Event (KSE) for applicants with On-Farm Climate Action Fund (OFCAF) projects in the Nitrogen Management category (only available for the live webinar). \nREGISTER HERE
URL:https://membership.ontariosoilcrop.org/event/understanding-urease-and-nitrification-inhibitors/
LOCATION:Ontario
CATEGORIES:Association,Event,KSE,Nitrogen Management
END:VEVENT
BEGIN:VEVENT
DTSTART;TZID=America/Toronto:20260128T130000
DTEND;TZID=America/Toronto:20260128T143000
DTSTAMP:20260424T182019
CREATED:20260123T005823Z
LAST-MODIFIED:20260123T005823Z
UID:10003250-1769605200-1769610600@membership.ontariosoilcrop.org
SUMMARY:St. Clair Region & Chatham-Kent SCIA AGM
DESCRIPTION:Regional AGM and CK AGM. Ian McDonald data review of August Compaction Event\, updates from Colin Elgie\, Margaret May\, Lower Thames Conservation Authority. All SCIA Regional members welcome. Wednesday\, January 28th at the Chatham-Kent Farm Show\, Bradley Convention Centre\, Chatham. Located in meeting rooms from 1pm-2:30pm.
URL:https://membership.ontariosoilcrop.org/event/st-clair-region-chatham-kent-scia-agm/
LOCATION:John Bradley Convention Centre\, 565 Richmond Street\, Chatham\, ON\, Canada
CATEGORIES:Chatham-Kent,St. Clair
GEO:42.3904147;-82.201412
X-APPLE-STRUCTURED-LOCATION;VALUE=URI;X-ADDRESS=John Bradley Convention Centre 565 Richmond Street Chatham ON Canada;X-APPLE-RADIUS=500;X-TITLE=565 Richmond Street:geo:-82.201412,42.3904147
END:VEVENT
BEGIN:VEVENT
DTSTART;TZID=America/Toronto:20260128T143000
DTEND;TZID=America/Toronto:20260128T170000
DTSTAMP:20260424T182019
CREATED:20260119T162904Z
LAST-MODIFIED:20260119T162904Z
UID:10003247-1769610600-1769619600@membership.ontariosoilcrop.org
SUMMARY:Guelph Organic Conference: Organic vs Inorganic Nitrogen: What every organic farmer needs to know
DESCRIPTION:The way in which plants detect\, take up and utilise different forms of nitrogen is of fundamental importance to all farmers but the specific benefits of organic vs inorganic nitrogen sources is of particular importance to organic farmers. Organic forms of nitrogen are less leaky and more stable in the soil but when taken up by the plant\, organic forms are more metabolically efficient than inorganic forms – in other words – plants require less energy to process and make use of organic forms of nitrogen. This has major implications for biomass production (yield)\, nitrogen demand and nitrogen use efficiency\, presenting a critical opportunity for organic farmers to manage nitrogen in a more targeted and efficient way. Is nitrogen really such a limitation in organic systems when organic forms are in dominant supply to the plant? Does the natural process of atmospheric N-fixation supply organic or inorganic N to the plant? Does a pound of N simply equal a pound of N? There is much more to the nitrogen story and this presentation will answer these important questions and take a deep dive into all things nitrogen nutrition.\n \n  \nJoel Williams is an independent plant and soil health educator and consultant who has worked extensively in Australia\, Europe and Canada where he is currently based. He has a keen interest in soil health\, plant nutrition and plant and soil microbiomes and how these may support the development of sustainable production systems. Joel has a Bachelor of Agricultural Science specialising in plant and soil dynamics and an MSc in Food Policy where he explored motivations and barriers to the adoption of intercropping. Joel has a passion for teaching and sharing a combination of scientific and practical information and has lectured to farming audiences internationally. \nRegister for the Session \nGuelph Organic Conference: Organic vs Inorganic Nitrogen: What every organic farmer needs to know is an OSCIA-recognized Knowledge Sharing Event (KSE) for farmers with On-Farm Climate Action Fund (OFCAF) projects in the Nitrogen Management category. 
URL:https://membership.ontariosoilcrop.org/event/guelph-organic-conference-organic-vs-inorganic-nitrogen-what-every-organic-farmer-needs-to-know/
LOCATION:42 Carden Street\, 42 Carden Street\, Guelph\, Ontario\, N1H 3A2\, Canada
CATEGORIES:ÉPC,Gestion de l’azote,KSE,Nitrogen Management
END:VEVENT
BEGIN:VEVENT
DTSTART;TZID=America/Toronto:20260128T170000
DTEND;TZID=America/Toronto:20260128T220000
DTSTAMP:20260424T182019
CREATED:20260112T200915Z
LAST-MODIFIED:20260112T211902Z
UID:10003235-1769619600-1769637600@membership.ontariosoilcrop.org
SUMMARY:Huron AGM
DESCRIPTION:Please join Huron SCIA for our AGM on January 28! \n 
URL:https://membership.ontariosoilcrop.org/event/huron-agm/
LOCATION:Brussels Legion\, 620 Turnberry Street NULL\, Brussels\, Ontario\, N0G1H0\, Canada
CATEGORIES:AGM,Association,Event,Huron,Local Event
ATTACH;FMTTYPE=image/gif:https://membership.ontariosoilcrop.org/wp-content/uploads/2026/01/agm-2025-HCSCIA-flyer.gif
END:VEVENT
END:VCALENDAR