BEGIN:VCALENDAR
VERSION:2.0
PRODID:-//OSCIA - ECPv6.15.17.1//NONSGML v1.0//EN
CALSCALE:GREGORIAN
METHOD:PUBLISH
X-ORIGINAL-URL:https://membership.ontariosoilcrop.org
X-WR-CALDESC:Events for OSCIA
REFRESH-INTERVAL;VALUE=DURATION:PT1H
X-Robots-Tag:noindex
X-PUBLISHED-TTL:PT1H
BEGIN:VTIMEZONE
TZID:America/Toronto
BEGIN:DAYLIGHT
TZOFFSETFROM:-0500
TZOFFSETTO:-0400
TZNAME:EDT
DTSTART:20250309T070000
END:DAYLIGHT
BEGIN:STANDARD
TZOFFSETFROM:-0400
TZOFFSETTO:-0500
TZNAME:EST
DTSTART:20251102T060000
END:STANDARD
BEGIN:DAYLIGHT
TZOFFSETFROM:-0500
TZOFFSETTO:-0400
TZNAME:EDT
DTSTART:20260308T070000
END:DAYLIGHT
BEGIN:STANDARD
TZOFFSETFROM:-0400
TZOFFSETTO:-0500
TZNAME:EST
DTSTART:20261101T060000
END:STANDARD
BEGIN:DAYLIGHT
TZOFFSETFROM:-0500
TZOFFSETTO:-0400
TZNAME:EDT
DTSTART:20270314T070000
END:DAYLIGHT
BEGIN:STANDARD
TZOFFSETFROM:-0400
TZOFFSETTO:-0500
TZNAME:EST
DTSTART:20271107T060000
END:STANDARD
END:VTIMEZONE
BEGIN:VEVENT
DTSTART;TZID=America/Toronto:20260127T090000
DTEND;TZID=America/Toronto:20260127T160000
DTSTAMP:20260424T121426
CREATED:20260114T160436Z
LAST-MODIFIED:20260114T164537Z
UID:10003241-1769504400-1769529600@membership.ontariosoilcrop.org
SUMMARY:Guelph Organic Conference: Building Soil Health in Organic Grain Production using Ecological Systems Strategies
DESCRIPTION:This full day intensive with Dr. Erin Silva\, Professor of Organic and Sustainable Cropping Systems at the University of Wisconsin Madison\, will explore practical\, research based strategies for building soil health in organic field crop systems. Drawing on long term trials with cover crops\, organic no till and reduced tillage\, Dr. Silva will share how farmers can use crop rotations and cover crops to regenerate their soils while keeping weeds in check. \nThe session will cover systems-based approaches to weed management that integrate cover crop selection\, timing and termination with mechanical tools such as  roller crimpers. Participants will learn how practices like planting soybeans or other cash crops into rolled cereal rye can provide season long weed suppression and protect soil health\, as well as the trade offs and management details that make these systems succeed on farm.  By the end of the day\, farmers will be better equipped build soil health using cover crops and Integrate weed management into whole farm rotation planning \n  \nDr. Erin Silva is an Associate Professor and State Extension Specialist in Organic and Sustainable Cropping Systems at UW-Madison. She has built an internationally recognized program focused on improving organic production\, soil health\, and cover crop based systems. Her work supports the profitability and sustainability of organic farmers. \nRegister for the Session \nGuelph Organic Conference: Building Soil Health in Organic Grain Production using Ecological Systems Strategies is an OSCIA-recognized Knowledge Sharing Event (KSE) for farmers with On-Farm Climate Action Fund (OFCAF) projects in the Cover Cropping and Nitrogen Management category. 
URL:https://membership.ontariosoilcrop.org/event/guelph-organic-conference-building-soil-health-in-organic-grain-production-using-ecological-systems-strategies/
LOCATION:42 Carden Street\, 42 Carden Street\, Guelph\, Ontario\, N1H 3A2\, Canada
CATEGORIES:Cover Cropping,ÉPC,KSE,Recours aux cultures de couverturev
ORGANIZER;CN="Ecological Farmers Association of Ontario (EFAO)":MAILTO:info@efao.ca
END:VEVENT
END:VCALENDAR